BEGIN:VCALENDAR
VERSION:2.0
PRODID:-//ChamberMaster//Event Calendar 2.0//EN
METHOD:PUBLISH
X-PUBLISHED-TTL:P3D
REFRESH-INTERVAL:P3D
CALSCALE:GREGORIAN
BEGIN:VEVENT
DTSTART:20190921T220000Z
DTEND:20190922T010000Z
X-MICROSOFT-CDO-ALLDAYEVENT:FALSE
SUMMARY:Hoe-Down at Firefly Farm
DESCRIPTION:Join us Saturday\, September 21\, 2019\, for a Country Western-themed fundraiser at Firefly Farm. The rolling acres\, stunning grounds and stables of Firefly Farm make for a perfect backdrop for this fundraising event. Enjoy a country-style dinner\, live entertainment\, line dancing\, two-stepping and games. Gather your posse and lasso a good time while supporting the Gardens.  Cowboy boots and hats are optional. All proceeds benefit Friendship Botanic Gardens. This is a 21+ event. Tickets are $50.
X-ALT-DESC;FMTTYPE=text/html:<p><span style="background-color:transparent\; color:rgb(0\, 0\, 0)\; font-family:times new roman\; font-size:12pt">Join us Saturday\, September 21\, 2019\, for a Country Western-themed fundraiser at&nbsp\;</span><em>Firefly Farm</em><span style="background-color:transparent\; color:rgb(0\, 0\, 0)\; font-family:times new roman\; font-size:12pt">. The rolling acres\, stunning grounds and stables of Firefly Farm make for a perfect backdrop for this fundraising event. Enjoy a country-style dinner\, live entertainment\, line dancing\, two-stepping and games. Gather your posse and lasso a good time while supporting the Gardens. &nbsp\;Cowboy boots and hats are optional. All proceeds benefit Friendship Botanic Gardens. This is a 21+ event. Tickets are $50.</span></p>\n\n<div>&nbsp\;</div>\n
LOCATION:Firefly Farm 0333 S 700 West La Porte\, IN 46350
UID:e.1949.4328
SEQUENCE:3
DTSTAMP:20260423T093300Z
URL:https://members.laportepartnership.com/events/details/hoe-down-at-firefly-farm-4328
END:VEVENT

END:VCALENDAR
