BEGIN:VCALENDAR
VERSION:2.0
PRODID:-//ChamberMaster//Event Calendar 2.0//EN
METHOD:PUBLISH
X-PUBLISHED-TTL:P3D
REFRESH-INTERVAL:P3D
CALSCALE:GREGORIAN
BEGIN:VEVENT
DTSTART:20181209T000000Z
DTEND:20181209T040000Z
X-MICROSOFT-CDO-ALLDAYEVENT:FALSE
SUMMARY:Holiday at the Pops Concert
DESCRIPTION:The Healthcare Foundation of La Porte is proud to present the Holiday at the Pops Concert. This concert is known for the joy it brings to the community as a start to the holiday season. The proceeds of the Holiday at the Pops Concert support our Healthy Children initiatives.
X-ALT-DESC;FMTTYPE=text/html:The Healthcare Foundation of La Porte is proud to present the Holiday at the Pops Concert. This concert is known for the joy it brings to the community as a start to the holiday season. The proceeds of the Holiday at the Pops Concert support our Healthy Children initiatives.
LOCATION:La Porte Civic Auditorium | 1001 Ridge St | La Porte\, IN 46350
UID:e.1949.2986
SEQUENCE:3
DTSTAMP:20260423T232101Z
URL:https://members.laportepartnership.com/events/details/holiday-at-the-pops-concert-2986
END:VEVENT

END:VCALENDAR
