BEGIN:VCALENDAR
VERSION:2.0
PRODID:-//ChamberMaster//Event Calendar 2.0//EN
METHOD:PUBLISH
X-PUBLISHED-TTL:P3D
REFRESH-INTERVAL:P3D
CALSCALE:GREGORIAN
BEGIN:VEVENT
DTSTART:20180412T210000Z
DTEND:20180413T000000Z
X-MICROSOFT-CDO-ALLDAYEVENT:FALSE
SUMMARY:Holiday Inn Express Open House
DESCRIPTION:Thursday\, April 12\, 2018\n\n4 PM   7 PM CST\n\n \n\nCome see our hotel with complimentary drinks and appetizers.\n\n \n\nHoliday Inn Express LaPorte\n\n101 East Shore Court \n\nLaPorte\, IN 46350\n\n(219) 325-3700\n\n\n\nwww.hielaporte.com
X-ALT-DESC;FMTTYPE=text/html:<strong><span style="font-family:georgia\,serif\;"><span style="font-size:28.0pt\;">Thursday\, April 12\, 2018</span></span></strong><br />\n<strong><span style="font-family:georgia\,serif\;"><span style="font-size:28.0pt\;">4 PM &ndash\; 7 PM CST</span></span></strong><br />\n&nbsp\;<br />\n<span style="font-family:cambria math\,serif\;"><span style="font-size:16.0pt\;">Come see our hotel with complimentary drinks and appetizers.</span></span><br />\n&nbsp\;<br />\n<strong><span style="font-family:cambria math\,serif\;"><span style="font-size:24.0pt\;">Holiday Inn Express LaPorte</span></span></strong><br />\n<span style="font-family:cambria math\,serif\;"><span style="font-size:20.0pt\;">101 East Shore Court </span></span><br />\n<span style="font-family:cambria math\,serif\;"><span style="font-size:20.0pt\;">LaPorte\, IN 46350</span></span><br />\n<span style="font-family:cambria math\,serif\;"><span style="font-size:20.0pt\;">(219) 325-3700</span></span><br />\n<br />\n<a href="http://www.hielaporte.com/"><span style="font-family:cambria math\,serif\;"><span style="font-size:20.0pt\;">www.hielaporte.com</span></span></a>
LOCATION:Holiday Inn Express La Porte 101 East Shore Court
UID:e.1949.3091
SEQUENCE:3
DTSTAMP:20260424T115543Z
URL:https://members.laportepartnership.com/events/details/holiday-inn-express-open-house-3091
END:VEVENT

END:VCALENDAR
