BEGIN:VCALENDAR
VERSION:2.0
PRODID:-//ChamberMaster//Event Calendar 2.0//EN
METHOD:PUBLISH
X-PUBLISHED-TTL:P3D
REFRESH-INTERVAL:P3D
CALSCALE:GREGORIAN
BEGIN:VEVENT
DTSTART:20170108T230000Z
DTEND:20170109T010000Z
X-MICROSOFT-CDO-ALLDAYEVENT:FALSE
SUMMARY:Holiday Tree Bonfire sponsored by Haverstock Funeral Home
DESCRIPTION:Holiday Tree Bonfire\n\nSunday\, January 8\, 2017 at 5:00 p.m.\n\nLa Porte County Fairgrounds\n\n\n\nPlease come join us around the fire for Holiday Tree Bonfire festivities. There will be hot chocolate\, popcorn\, and treats.\n\n\n\nFamilies with real trees may drop them off at the La Porte County Fairgrounds in front of the designated horse arena any time after Holiday until January 7th. The La Porte Street Department will pick them up for you as well. Bonfire will be lit at 5:00 p.m.\n\n\n\nEveryone is invited to the event\, regardless if you dropped off a tree.\n\n\n\nBe sure to tel your family and friends. It's a wonderful community event\, and kids especially love it!\n\n\n\nThere is no charge for the event. For more information\, call 219.362.3333.
X-ALT-DESC;FMTTYPE=text/html:Holiday Tree Bonfire<br />\nSunday\, January 8\, 2017 at 5:00 p.m.<br />\nLa Porte County Fairgrounds<br />\n<br />\nPlease come join us around the fire for Holiday Tree Bonfire festivities. There will be hot chocolate\, popcorn\, and treats.<br />\n<br />\nFamilies with real trees may drop them off at the La Porte County Fairgrounds in front of the designated horse arena any time after Holiday until January 7th. The La Porte Street Department will pick them up for you as well. Bonfire will be lit at 5:00 p.m.<br />\n<br />\nEveryone is invited to the event\, regardless if you dropped off a tree.<br />\n<br />\nBe sure to tel your family and friends. It&#39\;s a wonderful community event\, and kids especially love it!<br />\n<br />\nThere is no charge for the event. For more information\, call 219.362.3333.
LOCATION:La Porte County Fairgrounds 2581 W. State Road 2 La Porte
UID:e.1949.2680
SEQUENCE:3
DTSTAMP:20260425T154026Z
URL:https://members.laportepartnership.com/events/details/holiday-tree-bonfire-sponsored-by-haverstock-funeral-home-2680
END:VEVENT

END:VCALENDAR
