BEGIN:VCALENDAR
VERSION:2.0
PRODID:-//ChamberMaster//Event Calendar 2.0//EN
METHOD:PUBLISH
X-PUBLISHED-TTL:P3D
REFRESH-INTERVAL:P3D
CALSCALE:GREGORIAN
BEGIN:VEVENT
DTSTART:20180131T150000Z
DTEND:20180131T160000Z
X-MICROSOFT-CDO-ALLDAYEVENT:FALSE
SUMMARY:Home-Based Businesses: Learn the rules for starting a successful enterprise from your home
DESCRIPTION:This Northwest Indiana SCORE workshop is designed for current and prospective business owners\, especially those who are looking to launch a home-based business.  This one-hour information-packed workshop will focus on how to take advantage of Indiana laws and regulations that apply specifically to home-based businesses.\n\nMany successful small businesses start off initially in someone's home (or even garage)!  With our booming economy\, 2018 might be one of the best times to get a new business venture started.  Valparaiso SCORE Mentor Bill Herring will walk attendees through the information and tools needed to create a solid foundation when starting any business.  He will point out common pitfalls entrepreneurs should avoid and list valuable resources they can access at every stage in the life of their business.\n\nThis workshop will be held on January 31st\, 2018 at 9:00 am at the Valparaiso Chamber of Commerce.  There is no charge for this workshop and attendees will receive a copy of the slide presentation. Coffee will be served. Limited seating is available and registrations are required.  To register\, go to www.northwestindiana.score.org and click Take a Workshop in the Local Workshops section.
X-ALT-DESC;FMTTYPE=text/html:<span style="color:#003A4A\;"><span style="font-family:arial\,sans-serif\;"><span style="font-size:9.0pt\;">This Northwest Indiana SCORE workshop is designed for&nbsp\;current and prospective&nbsp\;business owners\, especially those who are looking to launch a home-based business.&nbsp\;&nbsp\;This one-hour information-packed workshop will focus on how to take advantage of Indiana laws and regulations that apply specifically to home-based businesses.</span></span></span><br />\n<span style="color:#003A4A\;"><span style="font-family:arial\,sans-serif\;"><span style="font-size:9.0pt\;">Many successful small businesses start off initially in someone&#39\;s home (or even garage)!&nbsp\; With our booming economy\, 2018 might be one of the best times to get a new business venture started.&nbsp\; Valparaiso SCORE Mentor Bill Herring will walk attendees through the information and tools needed to create a solid foundation when starting any business.&nbsp\; He will point out common pitfalls entrepreneurs should avoid and list valuable resources they can access at every stage in the life of their business.</span></span></span><br />\n<span style="color:#003A4A\;"><span style="font-family:arial\,sans-serif\;"><span style="font-size:9.0pt\;">This workshop will be held on January 31st\, 2018 at 9:00 am at the Valparaiso Chamber of Commerce. &nbsp\;There is no charge for this workshop and attendees will receive a copy of the slide presentation. Coffee will be served.&nbsp\;Limited seating is available and registrations are required.&nbsp\;&nbsp\;To register\, go to </span></span></span><a href="http://www.northwestindiana.score.org/"><span style="font-family:arial\,sans-serif\;"><span style="font-size:9.0pt\;">www.northwestindiana.score.org</span></span></a><span style="color:#003A4A\;"><span style="font-family:arial\,sans-serif\;"><span style="font-size:9.0pt\;"> and click Take a Workshop in the Local Workshops section.</span></span></span>
LOCATION:Valparaiso Chamber of Commerce 162 Lincolnway Valparaiso
UID:e.1949.3029
SEQUENCE:3
DTSTAMP:20260424T174334Z
URL:https://members.laportepartnership.com/events/details/home-based-businesses-learn-the-rules-for-starting-a-successful-enterprise-from-your-home-3029
END:VEVENT

END:VCALENDAR
