BEGIN:VCALENDAR
VERSION:2.0
PRODID:-//ChamberMaster//Event Calendar 2.0//EN
METHOD:PUBLISH
X-PUBLISHED-TTL:P3D
REFRESH-INTERVAL:P3D
CALSCALE:GREGORIAN
BEGIN:VEVENT
DTSTART:20180302T230000Z
DTEND:20180303T010000Z
X-MICROSOFT-CDO-ALLDAYEVENT:FALSE
SUMMARY:Home & Lifestyle Expo VIP Event with the La Porte and Michigan City Chambers
DESCRIPTION:Join the La Porte and Michigan City Chambers of Commerce for a sneak peek event of the Builders Association of La Porte County's Home & Lifestyle Expo. Members of the business community are invited to attend this special VIP Pre-Party of the Expo on March 2 from 5:00 p.m.-7:00 p.m. at the Stardust Event Center of the Blue Chip Casino\, 777 Blue Chip Drive\, Michigan City. Participants of the Expo include area builders and other associated businesses of the industry.\n\n \n\nThe cost to attend this event is $25\, and this covers the cost of entrance and food (with a great ham & pasta buffet). Join in and make great connections in a relaxed environment. There will also be a cash bar and door prizes available to attendees.\n\n \n\nBooths are still available for the Home & Lifestyle Expo. Call the BALC office at 219.326.0624 for more information. You can see more information about the Expo on the BALC Website or on the flyer below.
X-ALT-DESC;FMTTYPE=text/html:<div style="color: rgb(69\, 69\, 69)\; font-family: Arial\, Helvetica\, sans-serif\; font-size: 13.3333px\;"><span _mce_style="font-size: 10pt\;" style="font-size: 10pt\;">Join the La Porte and Michigan City Chambers of Commerce for a sneak peek event of the Builders Association of La Porte County&#39\;s Home &amp\; Lifestyle Expo. Members of the business community are invited to attend this special VIP Pre-Party of the Expo on March 2 from 5:00 p.m.-7:00 p.m. at the Stardust Event Center of the Blue Chip Casino\, 777 Blue Chip Drive\, Michigan City. Participants of the Expo include area builders and other associated businesses of the industry.</span></div>\n\n<div style="color: rgb(69\, 69\, 69)\; font-family: Arial\, Helvetica\, sans-serif\; font-size: 13.3333px\;">&nbsp\;</div>\n\n<div style="color: rgb(69\, 69\, 69)\; font-family: Arial\, Helvetica\, sans-serif\; font-size: 13.3333px\;"><span _mce_style="font-size: 10pt\;" style="font-size: 10pt\;">The cost to attend this event is $25\, and this covers the cost of entrance and food (with a great ham &amp\; pasta buffet). Join in and make great connections in a relaxed environment. There will also be a cash bar and door prizes available to attendees.</span></div>\n\n<div style="color: rgb(69\, 69\, 69)\; font-family: Arial\, Helvetica\, sans-serif\; font-size: 13.3333px\;">&nbsp\;</div>\n\n<div style="color: rgb(69\, 69\, 69)\; font-family: Arial\, Helvetica\, sans-serif\; font-size: 13.3333px\;"><span _mce_style="font-size: 10pt\;" style="font-size: 10pt\;">Booths are still available for the Home &amp\; Lifestyle Expo. Call the BALC office at&nbsp\;219.326.0624 for more information. You can see more information about the Expo on the&nbsp\;<a _mce_href="http://business.balc.org/events/details/home-and-lifestyle-expo-2018-1024" _mce_style="font-weight: bold\; color: #c24f13\; text-decoration: none\;" href="http://business.balc.org/events/details/home-and-lifestyle-expo-2018-1024" linktype="1" style="font-weight: bold\; color: rgb(194\, 79\, 19) !important\; text-decoration-line: none !important\;" target="_blank" track="on">BALC Website</a>&nbsp\;or on the flyer below.</span></div>\n
LOCATION:Blue Chip Casino 777 Blue Chip Drive Michigan City
UID:e.1949.3040
SEQUENCE:3
DTSTAMP:20260424T134832Z
URL:https://members.laportepartnership.com/events/details/home-lifestyle-expo-vip-event-with-the-la-porte-and-michigan-city-chambers-3040
END:VEVENT

END:VCALENDAR
