BEGIN:VCALENDAR
VERSION:2.0
PRODID:-//ChamberMaster//Event Calendar 2.0//EN
METHOD:PUBLISH
X-PUBLISHED-TTL:P3D
REFRESH-INTERVAL:P3D
CALSCALE:GREGORIAN
BEGIN:VEVENT
DTSTART:20161018T160000Z
DTEND:20161018T170000Z
X-MICROSOFT-CDO-ALLDAYEVENT:FALSE
SUMMARY:Homes for Heroes Ribbon Cutting
DESCRIPTION:Homes for Heroes will host a Ribbon Cutting on Tuesday\, October 18 at 11:00 a.m. The business is celebrating its expansion into La Porte County and will hold the event at La Porte Fire Station #1\, 809 W. 18th Street\, La Porte.\n\n \n\nCome to this event and welcome Homes to Heroes to our area!  Homes for Heroes\, Inc. is the largest nationwide network of affiliate real estate specialists and local business affiliates\; committed to providing easy ways for the heroes of our nation to save on a home\, and on every day home-related purchases. The mission of the company is to provide extraordinary savings to heroes who provide extraordinary services to our nation and its communities every day.\n\n \nFor more information about Homes for Heroes\, visitwww.homesforheroes.com or their Facebook page.
X-ALT-DESC;FMTTYPE=text/html:<div style="color: rgb(77\, 79\, 84)\; font-family: Arial\, Helvetica\, sans-serif\; font-size: 16px\;"><strong>Homes for Heroes&nbsp\;</strong>will host a Ribbon Cutting on Tuesday\, October 18 at 11:00 a.m. The business is celebrating its expansion into La Porte County and will hold the event at La Porte Fire Station #1\, 809 W. 18th Street\, La Porte.</div>\n\n<div style="color: rgb(77\, 79\, 84)\; font-family: Arial\, Helvetica\, sans-serif\; font-size: 16px\;">&nbsp\;</div>\n\n<div style="color: rgb(77\, 79\, 84)\; font-family: Arial\, Helvetica\, sans-serif\; font-size: 16px\;">Come to this event and welcome Homes to Heroes to our area!&nbsp\; Homes for Heroes\, Inc. is the largest nationwide network of affiliate real estate specialists and local business affiliates\; committed to providing easy ways for the heroes of our nation to save on a home\, and on every day home-related purchases. The mission of the company is to provide extraordinary savings to heroes who provide extraordinary services to our nation and its communities every day.</div>\n\n<div style="color: rgb(77\, 79\, 84)\; font-family: Arial\, Helvetica\, sans-serif\; font-size: 16px\;">&nbsp\;</div>\n<span style="color: rgb(77\, 79\, 84)\; font-family: Arial\, Helvetica\, sans-serif\; font-size: 16px\;">For more information about Homes for Heroes\, visit</span><span style="color: rgb(77\, 79\, 84)\; font-family: Arial\, Helvetica\, sans-serif\; font-size: 16px\;"><a alt="http://www.homesforheroes.com" href="http://www.homesforheroes.com/" linktype="1" shape="rect" style="color: rgb(0\, 0\, 116)\; text-decoration: none\; font-weight: bold\;" target="_blank" track="on">www.homesforheroes.com</a></span><span style="color: rgb(77\, 79\, 84)\; font-family: Arial\, Helvetica\, sans-serif\; font-size: 16px\;">&nbsp\;or their&nbsp\;<a alt="https://www.facebook.com/LaPorteCountyHFH/?fref=ts" href="https://www.facebook.com/LaPorteCountyHFH/?fref=ts" linktype="1" shape="rect" style="color: rgb(0\, 0\, 116)\; text-decoration: none\; font-weight: bold\;" target="_blank" track="on">Facebook page</a>.</span>
LOCATION:La Porte Fire Station #1 809 W. 18th Street La Porte
UID:e.1949.2649
SEQUENCE:3
DTSTAMP:20260425T204155Z
URL:https://members.laportepartnership.com/events/details/homes-for-heroes-ribbon-cutting-2649
END:VEVENT

END:VCALENDAR
