BEGIN:VCALENDAR
VERSION:2.0
PRODID:-//ChamberMaster//Event Calendar 2.0//EN
METHOD:PUBLISH
X-PUBLISHED-TTL:P3D
REFRESH-INTERVAL:P3D
CALSCALE:GREGORIAN
BEGIN:VEVENT
DTSTART:20170818T180000Z
DTEND:20170818T190000Z
X-MICROSOFT-CDO-ALLDAYEVENT:FALSE
SUMMARY:Homes for Heroes Ribbon Cutting- New Office
DESCRIPTION:Homes for Heroes\, a business that honors heroes of La Porte County as they buy or sell homes\, has opened a new office at 111. E. Michigan Street in New Carlisle\, IN. The Greater La Porte Chamber of Commerce will administer a ribbon cutting on August 18 at 2:00 p.m. EDT (1:00 p.m. CDT) to celebrate the opening of the new location.\n\nHomes for Heroes\, Inc. is the largest nationwide network of affiliate real estate specialists and local business affiliates\; committed to providing easy ways for the heroes of our nation to save on a home\, and on every day home-related purchases. Heroes that are served include active or retired military\, police\, fire\, teachers and healthcare.\n\nFor more information about Homes for Heroes\, visit the new location at 111 E. Michigan St. in New Carlisle\, call 574.229.8808\, or like their Facebook page at www.facebook.com/LaPorteCountyHFH.
X-ALT-DESC;FMTTYPE=text/html:<span style="font-family:georgia\,serif\;"><span style="font-size:12.0pt\;">Homes for Heroes\, a business that honors heroes of La Porte County as they buy or sell homes\, has opened a new office at 111. E. Michigan Street in New Carlisle\, IN. The Greater La Porte Chamber of Commerce will administer a ribbon cutting on August 18 at 2:00 p.m. EDT (1:00 p.m. CDT) to celebrate the opening of the new location.</span></span><br />\n<span style="font-family:georgia\,serif\;"><span style="font-size:12.0pt\;">Homes for Heroes\, Inc. is the largest nationwide network of affiliate real estate specialists and local business affiliates\; committed to providing easy ways for the heroes of our nation to save on a home\, and on every day home-related purchases. Heroes that are served include active or retired military\, police\, fire\, teachers and healthcare.</span></span><br />\n<span style="font-family:georgia\,serif\;"><span style="font-size:12.0pt\;">For more information about Homes for Heroes\, visit the new location at 111 E. Michigan St. in New Carlisle\, call 574.229.8808\, or like their Facebook page at www.facebook.com/LaPorteCountyHFH.</span></span>
LOCATION:Homes for Heroes 111 E. Michigan St. New Carlise
UID:e.1949.2859
SEQUENCE:3
DTSTAMP:20260425T022019Z
URL:https://members.laportepartnership.com/events/details/homes-for-heroes-ribbon-cutting-new-office-2859
END:VEVENT

END:VCALENDAR
