BEGIN:VCALENDAR
VERSION:2.0
PRODID:-//ChamberMaster//Event Calendar 2.0//EN
METHOD:PUBLISH
X-PUBLISHED-TTL:P3D
REFRESH-INTERVAL:P3D
CALSCALE:GREGORIAN
BEGIN:VEVENT
DTSTART:20170910T000000Z
DTEND:20170910T020000Z
X-MICROSOFT-CDO-ALLDAYEVENT:FALSE
SUMMARY:Hoosier Star
DESCRIPTION:Unlike any event- ANYWHERE!\n\n\n\nDon't miss 10 dynamic singers\, all under one roof\, for an incredible evening of vocal gymnastics.  These amazing vocalists are accompanied by members of the La Porte County Symphony Orchestra led by their energetic maestro Philip Bauman.  The audience vote determines the next Hoosier STAR winners.\n\n\nSo Much Style!\n\n\n\nMusical styles of rock\, pop\, country\, swing\, classical and more find their way to our stage for a family friendly   amazing night of vocal intrigue. Don't miss the encore performances of the previous year's winners and the insightful comments of celebrity judges. There is no event like this in the nation and you are invited to join us at the La Porte Civic Auditorium on Saturday\, September 9\, 2017   7 pm for an unparalleled musical experience.
X-ALT-DESC;FMTTYPE=text/html:Unlike any event- ANYWHERE!<br />\n<br />\nDon&rsquo\;t miss 10&nbsp\;dynamic&nbsp\;singers\, all under one roof\, for an incredible evening of vocal gymnastics. &nbsp\;These amazing vocalists are accompanied by members of the La Porte County Symphony Orchestra led by their energetic maestro Philip Bauman.&nbsp\; The audience vote determines the next<em> Hoosier</em> STAR winners.\n<h3><cufon alt="So " class="cufon cufon-canvas" style="width: 30px\; height: 20px\;"></cufon></h3>\n\n<h3><cufon alt="So " class="cufon cufon-canvas" style="width: 30px\; height: 20px\;"><cufontext>So&nbsp\;</cufontext></cufon>Much&nbsp\;<cufon alt="Style!" class="cufon cufon-canvas" style="width: 56px\; height: 20px\;"><cufontext>Style!</cufontext></cufon></h3>\n\n<h3><cufon alt="Style!" class="cufon cufon-canvas" style="width: 56px\; height: 20px\;"></cufon></h3>\n\n<h4>Musical styles of rock\, pop\, country\, swing\, classical and more find their way to our stage for a family friendly &ndash\; amazing night of vocal intrigue. Don&rsquo\;t miss the encore performances of the previous year&rsquo\;s winners and the insightful comments of celebrity judges. There is no event like this in the nation and you are invited to join us&nbsp\;at the <a href="http://www.hoosierstar.com/?page_id=1591" rel="noopener noreferrer" target="_blank" title="Civic Auditorium"><big>La Porte Civic Auditorium</big></a>&nbsp\;on Saturday\, September 9\, 2017 &ndash\; 7 pm for an unparalleled musical experience.</h4>\n
LOCATION:La Porte Civic Auditorium 1001 Ridge Street\, La Porte
UID:e.1949.2857
SEQUENCE:3
DTSTAMP:20260425T021311Z
URL:https://members.laportepartnership.com/events/details/hoosier-star-2857
END:VEVENT

END:VCALENDAR
