BEGIN:VCALENDAR
VERSION:2.0
PRODID:-//ChamberMaster//Event Calendar 2.0//EN
METHOD:PUBLISH
X-PUBLISHED-TTL:P3D
REFRESH-INTERVAL:P3D
CALSCALE:GREGORIAN
BEGIN:VEVENT
DTSTART;VALUE=DATE:20200305
DTEND;VALUE=DATE:20200403
TRANSP:TRANSPARENT
X-MICROSOFT-CDO-ALLDAYEVENT:TRUE
SUMMARY:Hoosiers & Their Hooch: Perspectives on Prohibition
DESCRIPTION:The La Porte County Historical Society Museum will host "Hoosiers & Their Hooch: Perspectives on Prohibition\," one of the Indiana Historical Society's traveling exhibits\, from March 5\, 2020 to April 2\, 2020. The exhibit features the rise and fall of prohibition in Indiana and throughout the country\, and spans the dawn of the temperance movement of the 1900s\, the roaring 1920s\, and the unprecedented repeal of a constitutional amendment during the Great Depression. The sights\, sounds and experiences of the time period are brought to life by images and graphics from IHS's collections. In addition\, the era's conflicting cultures are demonstrated through colorful historic figures such as Edward S. Shumaker of the Indiana Anti-Saloon League\, as well as the bootleggers\, moonshiners and bathtub gin distillers who found their way around the law in Indiana. "Hoosiers & Their Hooch: Perspectives on Prohibition" is made possible by Kroger.
X-ALT-DESC;FMTTYPE=text/html:The La Porte County Historical Society Museum will host &ldquo\;Hoosiers &amp\; Their Hooch: Perspectives on Prohibition\,&rdquo\; one of the Indiana Historical Society&rsquo\;s traveling exhibits\, from March 5\, 2020 to April 2\, 2020. The exhibit features the rise and fall of prohibition in Indiana and throughout the country\, and spans the dawn of the temperance movement of the 1900s\, the roaring 1920s\, and the unprecedented repeal of a constitutional amendment during the Great Depression. The sights\, sounds and experiences of the time period are brought to life by images and graphics from IHS&#39\;s collections. In addition\, the era&#39\;s conflicting cultures are demonstrated through colorful historic figures such as Edward S. Shumaker of the Indiana Anti-Saloon League\, as well as the bootleggers\, moonshiners and bathtub gin distillers who found their way around the law in Indiana. &ldquo\;Hoosiers &amp\; Their Hooch: Perspectives on Prohibition&rdquo\; is made possible by Kroger.
LOCATION:La Porte County Historical Society Museum\, 2405 Indiana Avenue\, La Porte\, IN 46350
UID:e.1949.4567
SEQUENCE:3
DTSTAMP:20260422T193340Z
URL:https://members.laportepartnership.com/events/details/hoosiers-their-hooch-perspectives-on-prohibition-4567
END:VEVENT

END:VCALENDAR
