BEGIN:VCALENDAR
VERSION:2.0
PRODID:-//ChamberMaster//Event Calendar 2.0//EN
METHOD:PUBLISH
X-PUBLISHED-TTL:P3D
REFRESH-INTERVAL:P3D
CALSCALE:GREGORIAN
BEGIN:VEVENT
DTSTART:20180802T210000Z
DTEND:20180802T220000Z
X-MICROSOFT-CDO-ALLDAYEVENT:FALSE
SUMMARY:HotSpot Cafe Ribbon Cutting & Grand Opening
DESCRIPTION:HotSpot Caf  will hold a ribbon cutting on August 2 to celebrate their new location grand opening at 602 Lincolnway in La Porte. Free mini popcorn bags will be given to the first 48 attendees\, and free t-shirts will be available as well. The ribbon cutting will take place at 4:00 p.m. and will be facilitated by the Greater La Porte Chamber of Commerce.  \n\n\n\nHotSpot Caf  offers a variety of drinks and snacks\, including Bubble Tea\, coffee beverages\, baked goods and desserts\, and gourmet popcorn. The location also offers free wifi and hosts painting events. They have three upcoming events in August\, including Mommy & Me Painting Class on August 11\, Moonlite Waterfall on August 19\, and Summer Night on August 26. \n\n\n\nFor more information on HotSpot Caf 's hours\, menu items\, and events visit their website at www.hotspotcafe.net or visit their Facebook page at HotSpot Caf  La Porte IN.
X-ALT-DESC;FMTTYPE=text/html:<span style="font-family:georgia\,serif\;">HotSpot Caf&eacute\; will hold a ribbon cutting on August 2 to celebrate their new location grand opening at 602 Lincolnway in La Porte. Free mini popcorn bags will be given to the first 48 attendees\, and free t-shirts will be available as well. The ribbon cutting will take place at 4:00 p.m. and will be facilitated by the Greater La Porte Chamber of Commerce. &nbsp\;</span><br />\n<br />\n<span style="font-family:georgia\,serif\;">HotSpot Caf&eacute\; offers a variety of drinks and snacks\, including Bubble Tea\, coffee beverages\, baked goods and desserts\, and gourmet popcorn. The location also offers free wifi and hosts painting events. They have three upcoming events in August\, including Mommy &amp\; Me Painting Class on August 11\, Moonlite Waterfall on August 19\, and Summer Night on August 26. </span><br />\n<br />\n<span style="font-family:georgia\,serif\;">For more information on HotSpot Caf&eacute\;&rsquo\;s hours\, menu items\, and events visit their website at </span><a href="http://www.hotspotcafe.net/"><span style="font-family:georgia\,serif\;">www.hotspotcafe.net</span></a><span style="font-family:georgia\,serif\;"> or visit their Facebook page at HotSpot Caf&eacute\; La Porte IN.</span>
LOCATION:HotSpot Cafe 602 Lincolnway La Porte
UID:e.1949.4221
SEQUENCE:3
DTSTAMP:20260424T055058Z
URL:https://members.laportepartnership.com/events/details/hotspot-cafe-ribbon-cutting-grand-opening-4221
END:VEVENT

END:VCALENDAR
