BEGIN:VCALENDAR
VERSION:2.0
PRODID:-//ChamberMaster//Event Calendar 2.0//EN
METHOD:PUBLISH
X-PUBLISHED-TTL:P3D
REFRESH-INTERVAL:P3D
CALSCALE:GREGORIAN
BEGIN:VEVENT
DTSTART:20180623T140000Z
DTEND:20180623T190000Z
X-MICROSOFT-CDO-ALLDAYEVENT:FALSE
SUMMARY:Household Waste Collection- Solid Waste District
DESCRIPTION:Dispose of sharps\, chemicals and other hazardous materials in an environmentally safe manner by participating in the La Porte County Solid Waste District's Household Hazardous Waste collections. Our next collection will be held from 9 am to 2 pm June 23rd\, 2018 at the La Porte County Fairgrounds. The best part? Disposal is FREE for all La Porte County residents!\n\n\n\nHOUSEHOLD HAZARDOUS WASTE: What should you bring to this collection?\n\n \n\n- Batteries\n\n- Fluorescent light bulbs\n\n- Mercury\n\n- Thermostats and thermometers\n\n- Sharps\n\n- Household cleaners\, disinfectants and polishes\n\n- ALL chemicals\n\n- Aerosol cans\n\n- Oil-based paint and paint products\n\n- Gasoline\n\n- Vehicle fluids (oil\, diesel\, brake etc.)\n\n- Moth balls\n\n- Pesticides\, insecticides\, fungicides and herbicides\n\n- Weed killer\n\n- Lighter fluid\n\n- Nail polish and remover\n\n- Ammunition\n\n- Hand held gas cylinders\n\n-Medications\n\n \n\n\n\n\n\nWhat NOT to bring:\n\n \n\n- Latex paint (Allow it to dry and dispose with your regular trash\, lid off)\n\n- Commercial hazardous waste\n\n- Explosives\n\n- Medical waste other than medicines and sharps\n\n- Radioactive material (Including smoke alarms)\n\n\n\nAll materials may be disposed of in their original packaging\, except for Sharps  And Medications.  Sharps must be contained in a sealed metal or hard plastic container\, such as a coffee can or a detergent bottle with a screw-on lid (no milk jugs).Medications need to be placed in a ziploc type bag.  For more information\, please call us at 326-0014. Our next HHW collection will be held July 14th\, 2018 in Michigan City in the West parking lot located behind Marquette Mall.
X-ALT-DESC;FMTTYPE=text/html:<span style="background:white\;"><span style="color:#141823\;">Dispose of sharps\, chemicals and other hazardous materials in an environmentally safe manner by participating in the La Porte County Solid Waste District&rsquo\;s Household Hazardous Waste collections. Our next collection will be held from 9 am to 2 pm June 23<sup>rd</sup>\, 2018 at the La Porte County Fairgrounds. The best part? Disposal is FREE for all La Porte County residents!</span></span><br />\n<br />\n<strong><span style="background:white\;"><span style="color:#141823\;">HOUSEHOLD HAZARDOUS WASTE: What should you bring to this collection?</span></span></strong><br />\n&nbsp\;<br />\n<span style="background:white\;"><span style="color:#141823\;">- Batteries</span></span><br />\n<span style="color:#141823\;"><span style="background:white\;">- Fluorescent light bulbs</span><br />\n<span style="background:white\;">- Mercury</span><br />\n<span style="background:white\;">- Thermostats</span> and thermometers<br />\n<span style="background:white\;">- Sharps</span><br />\n<span style="background:white\;">- Household cleaners\, disinfectants and polishes</span><br />\n<span style="background:white\;">- ALL chemicals<br />\n- Aerosol cans<br />\n- Oil-based paint and paint products<br />\n- Gasoline<br />\n- Vehicle fluids (oil\, diesel\, brake etc.)<br />\n- Moth balls<br />\n- Pesticides\, insecticides\, fungicides and herbicides<br />\n- Weed killer<br />\n- Lighter fluid<br />\n- Nail polish and remover<br />\n- Ammunition</span></span><br />\n<span style="background:white\;"><span style="color:#141823\;">- Hand held gas cylinders</span></span><br />\n<span style="background:white\;"><span style="color:#141823\;">-Medications</span></span><br />\n&nbsp\;<br />\n<br />\n<br />\n<strong><span style="background:white\;"><span style="color:#141823\;">What NOT to bring:</span></span></strong><br />\n&nbsp\;<br />\n<span style="background:white\;"><span style="color:#141823\;">- Latex paint (Allow it to dry and dispose with your regular trash\, lid off)<br />\n- Commercial hazardous waste<br />\n- Explosives<br />\n- Medical waste other than medicines and sharps<br />\n- Radioactive material (Including smoke alarms)</span></span><br />\n<br />\n<span style="background:white\;"><span style="color:#141823\;">All materials may be disposed of in their original packaging\, except for Sharps&nbsp\; And Medications. &nbsp\;Sharps must </span></span><span style="background:white\;"><span style="color:black\;">be contained in a sealed metal or hard plastic container\, such as a coffee can or a detergent bottle with a screw-on lid (no milk jugs).Medications need to be placed in a ziploc type bag. &nbsp\;</span></span><span style="background:white\;"><span style="color:#141823\;">For more information\, please call us at 326-0014. Our next HHW collection will be held July 14<sup>th</sup>\, 2018 in Michigan City in the West parking lot located behind Marquette Mall. </span></span>
LOCATION:La Porte County Fairgrounds 2851 W. State Road 2 La Porte
UID:e.1949.4184
SEQUENCE:3
DTSTAMP:20260424T101246Z
URL:https://members.laportepartnership.com/events/details/household-waste-collection-solid-waste-district-4184
END:VEVENT

END:VCALENDAR
