BEGIN:VCALENDAR
VERSION:2.0
PRODID:-//ChamberMaster//Event Calendar 2.0//EN
METHOD:PUBLISH
X-PUBLISHED-TTL:P3D
REFRESH-INTERVAL:P3D
CALSCALE:GREGORIAN
BEGIN:VEVENT
DTSTART:20171025T140000Z
DTEND:20171025T170000Z
X-MICROSOFT-CDO-ALLDAYEVENT:FALSE
SUMMARY:How to Cope with Difficult People
DESCRIPTION:'Difficult People'  How to cope with them in the workplace.    We all\, from time to time\, encounter people who are "difficult".  Do you recognize any of these people?  The tantrum thrower\, the incessant complainer\, the always negative\, the silent unresponsive\, the one who agrees but never delivers\, the know-it all\, and the staller who never makes a decision? \n\nSCORE's own Jim Hubbard will present a one-hour workshop on how best to 'cope' with these 'difficult people'.  Using Robert M. Bramson's book on the same topic\, Jim will give a prescription that will help cure the problem if any or all of these type people are making your life miserable.  Jim is an HR professional and an attorney with over 45 years in the business world who has conducted training and education programs for employees at all levels of an organization.\n\n This workshop will be held at the Valparaiso Chamber of Commerce\, 162 W. Lincolnway\, Wednesday\, October 25th at 9 AM.  Register by going to www.northwestindiana.score.org and clicking on 'Take a Workshop'.  A paper copy of the presentation will be provided at the workshop. Coffee will be served.  Seating is limited so register today.
X-ALT-DESC;FMTTYPE=text/html:<p class="Normal_0020_0028Web_0029" style="margin-top: 5pt\; margin-bottom: 5pt\; line-height: 14pt\; font-family: 'Times New Roman'\, Arial\; font-size: medium\; color: rgb(0\, 0\, 0)\;"><span class="Normal_0020_0028Web_0029__Char" style="font-family: Calibri\, Arial\; font-size: 14pt\;">&lsquo\;Difficult People&rsquo\; &hellip\;How to cope with them in the workplace.&nbsp\;&nbsp\;&nbsp\; We all\, from time to time\, encounter people who are &ldquo\;difficult&rdquo\;.&nbsp\; Do you recognize any of these people?&nbsp\; The tantrum thrower\, the incessant complainer\, the always negative\, the silent unresponsive\, the one who agrees but never delivers\, the know-it all\, and the staller who never makes a decision?&nbsp\;</span></p>\n\n<p class="Normal_0020_0028Web_0029" style="margin-top: 5pt\; margin-bottom: 5pt\; line-height: 14pt\; font-family: 'Times New Roman'\, Arial\; font-size: medium\; color: rgb(0\, 0\, 0)\;"><span class="Normal_0020_0028Web_0029__Char" style="font-family: Calibri\, Arial\; font-size: 14pt\;">SCORE&rsquo\;s own Jim Hubbard will present a one-hour workshop on how best to &lsquo\;cope&rsquo\; with these &lsquo\;difficult people&rsquo\;.&nbsp\; Using Robert M. Bramson&rsquo\;s book on the same topic\, Jim will give a prescription that will help cure the problem if any or all of these type people are making your life miserable.&nbsp\; Jim is an HR professional and an attorney with over 45 years in the business world who has conducted training and education programs for employees at all levels of an organization.</span></p>\n\n<p class="Normal_0020_0028Web_0029" style="margin-top: 5pt\; margin-bottom: 5pt\; line-height: 14pt\; font-family: 'Times New Roman'\, Arial\; font-size: medium\; color: rgb(0\, 0\, 0)\;"><span class="Normal_0020_0028Web_0029__Char" style="font-family: Calibri\, Arial\; font-size: 14pt\;">&nbsp\;This workshop will be held at the Valparaiso Chamber of Commerce\, 162 W. Lincolnway\, Wednesday\, October 25th at 9 AM.&nbsp\; Register by going to www.northwestindiana.score.org and clicking on &lsquo\;Take a Workshop&rsquo\;.&nbsp\; A paper copy of the presentation will be provided at the workshop. Coffee will be served.&nbsp\; Seating is limited so register today.</span></p>\n
LOCATION:Greater Valparaiso Chamber of Commerce 162 W. Lincolnway LaPorte
UID:e.1949.2915
SEQUENCE:3
DTSTAMP:20260424T230143Z
URL:https://members.laportepartnership.com/events/details/how-to-cope-with-difficult-people-2915
END:VEVENT

END:VCALENDAR
