BEGIN:VCALENDAR
VERSION:2.0
PRODID:-//ChamberMaster//Event Calendar 2.0//EN
METHOD:PUBLISH
X-PUBLISHED-TTL:P3D
REFRESH-INTERVAL:P3D
CALSCALE:GREGORIAN
BEGIN:VEVENT
DTSTART:20190215T150000Z
DTEND:20190217T230000Z
X-MICROSOFT-CDO-ALLDAYEVENT:FALSE
SUMMARY:Huber's Marine In-House Boat Show 2019
DESCRIPTION:Huber's Marine will be having an in-house boat show from February 15th to the 17th. Times are listed below. Parking and Admission are FREE! Free food\, kid's activities\, prize giveaways\, incentives to buy\, and rebates up to $2\,500!
X-ALT-DESC;FMTTYPE=text/html:<span style="color: rgb(51\, 51\, 51)\; font-family: sans-serif\, Arial\, Verdana\, &quot\;Trebuchet MS&quot\;\; font-size: 13px\; background-color: rgb(255\, 255\, 255)\;">Huber&#39\;s Marine will be having an in-house boat show from February 15th to the 17th. Times are listed below. Parking and Admission are FREE! Free food\, kid&#39\;s activities\, prize giveaways\, incentives to buy\, and rebates up to $2\,500!</span>
LOCATION:Huber's Marine 1207 Pine Lake Ave.\, La Porte\, IN 46350
UID:e.1949.4333
SEQUENCE:3
DTSTAMP:20260423T202746Z
URL:https://members.laportepartnership.com/events/details/huber-s-marine-in-house-boat-show-2019-4333
END:VEVENT

END:VCALENDAR
