BEGIN:VCALENDAR
VERSION:2.0
PRODID:-//ChamberMaster//Event Calendar 2.0//EN
METHOD:PUBLISH
X-PUBLISHED-TTL:P3D
REFRESH-INTERVAL:P3D
CALSCALE:GREGORIAN
BEGIN:VEVENT
DTSTART:20180531T140000Z
DTEND:20180531T153000Z
X-MICROSOFT-CDO-ALLDAYEVENT:FALSE
SUMMARY:Human Trafficking in Indiana Youth Conversation
DESCRIPTION:Human Trafficking in Indiana Youth\n\nIdentification and Collaborative Support of Victims & Survivors\n\nDefine human trafficking in Indiana and identify youth populations most vulnerable to human trafficking.\n\nRecognize red flags that identify potential trafficking victims and identify community resources to support trafficking victims and survivors.\n\nMay 31st\, 2018 from 9:00 AM-10:30 AM. 422 Franklin Street\, Suite E\, Michigan City\, IN. Past Fiddlehead Restaurant\, enter parking lot near\n\nNews Dispatch and enter Star Center next to News\n\nDispatch under the striped awning.
X-ALT-DESC;FMTTYPE=text/html:Human Trafficking in Indiana Youth<br />\nIdentification and Collaborative Support of Victims &amp\; Survivors<br />\nDefine human trafficking in Indiana and identify youth populations most vulnerable to human trafficking.<br />\nRecognize red flags that identify potential trafficking victims and identify community resources to support trafficking victims and survivors.<br />\nMay 31st\, 2018 from 9:00 AM-10:30 AM. 422 Franklin Street\, Suite E\, Michigan City\, IN.&nbsp\;Past Fiddlehead Restaurant\, enter parking lot near<br />\nNews Dispatch and enter Star Center next to News<br />\nDispatch under the striped awning.
LOCATION:422 Franklin Street\, Suite E Michigan City
UID:e.1949.4157
SEQUENCE:3
DTSTAMP:20260424T103700Z
URL:https://members.laportepartnership.com/events/details/human-trafficking-in-indiana-youth-conversation-4157
END:VEVENT

END:VCALENDAR
