BEGIN:VCALENDAR
VERSION:2.0
PRODID:-//ChamberMaster//Event Calendar 2.0//EN
METHOD:PUBLISH
X-PUBLISHED-TTL:P3D
REFRESH-INTERVAL:P3D
CALSCALE:GREGORIAN
BEGIN:VEVENT
DTSTART:20180410T223000Z
DTEND:20180411T000000Z
X-MICROSOFT-CDO-ALLDAYEVENT:FALSE
SUMMARY:Incorporating Yoga & Essential Oils into Your Work Day- Business after Hours
DESCRIPTION:Join the Great La Porte Chamber of Commerce for a fun and unique Business after Hours at Go Aerial Fitness\, 505 Lincolnway in Downtown La Porte. This event will take place on April 10 at 5:30 p.m. and will also feature Earthside Living\, an essential oils store with a location next door to the facility.\n\n\n\nAt this event\, instructors will give information to attendees on how they can incorporate yoga into their work day. There will be short demonstrations and also information provided on essential oils and how they can also be added into the workplace. Time for networking will also be available after the demonstrations and light refreshments will also be on hand..\n\n\n\nRegistration is strongly encouraged for this event. To register\, please use the Register button above or call 219.362.3178.\n\n\n\nFor more information about Go Aerial Fitness\, visit their Facebook page or go to www.goaerialfitness.com. For more information about Earthside Living\, visit their Facebook page or go to www.earthsideliving.com.
X-ALT-DESC;FMTTYPE=text/html:<span style="font-family:georgia\,serif\;"><span style="font-size:12.0pt\;">Join the Great La Porte Chamber of Commerce for a fun and unique Business after Hours at Go Aerial Fitness\, 505 Lincolnway in Downtown La Porte. This event will take place on April 10 at 5:30 p.m. and will also feature Earthside Living\, an essential oils store with a location next door to the facility.</span></span><br />\n<br />\n<span style="font-family:georgia\,serif\;"><span style="font-size:12.0pt\;">At this event\, instructors will give information to attendees on how they can incorporate yoga into their work day. There will be short demonstrations and also information provided on essential oils and how they can also be added into the workplace. Time for networking will also be available after the demonstrations and light refreshments will also be on hand..</span></span><br />\n<br />\n<span style="font-family:georgia\,serif\;"><span style="font-size:12.0pt\;">Registration is strongly encouraged for this event. To register\, please use the Register button above or call 219.362.3178.</span></span><br />\n<br />\n<span style="font-family:georgia\,serif\;"><span style="font-size:12.0pt\;">For more information about Go Aerial Fitness\, visit their Facebook page or go to www.goaerialfitness.com. For more information about Earthside Living\, visit their Facebook page or go to www.earthsideliving.com.</span></span>
LOCATION:Go Aerial Fitness 505 Lincolnway La Porte
UID:e.1949.3082
SEQUENCE:3
DTSTAMP:20260424T115805Z
URL:https://members.laportepartnership.com/events/details/incorporating-yoga-essential-oils-into-your-work-day-business-after-hours-3082
END:VEVENT

END:VCALENDAR
