BEGIN:VCALENDAR
VERSION:2.0
PRODID:-//ChamberMaster//Event Calendar 2.0//EN
METHOD:PUBLISH
X-PUBLISHED-TTL:P3D
REFRESH-INTERVAL:P3D
CALSCALE:GREGORIAN
BEGIN:VEVENT
DTSTART:20190405T000000Z
DTEND:20190405T010000Z
X-MICROSOFT-CDO-ALLDAYEVENT:FALSE
SUMMARY:Intermediate to Advanced Yoga Class
DESCRIPTION:Looking for a Yoga class geared to get you toned up this Summer? Then come to our Thursday night Vinyasa Flow class with Diana. Build your core muscles as we use coordinated movement with breath to flow from one pose to the next. You will definitely feel this class as you work hard and build up a sweat. Current students can bring a Friend for Free
X-ALT-DESC;FMTTYPE=text/html:Looking for a Yoga class geared to get you toned up this Summer? Then come to our Thursday night Vinyasa Flow class with Diana. Build your core muscles as we use coordinated movement with breath to flow from one pose to the next. You will definitely feel this class as you work hard and build up a sweat. Current students can bring a Friend for Free
LOCATION:Located in Clark's Family Chiropractic 6662 W. Johnson Rd La Porte
UID:e.1949.4349
SEQUENCE:3
DTSTAMP:20260423T183523Z
URL:https://members.laportepartnership.com/events/details/intermediate-to-advanced-yoga-class-4349
END:VEVENT

END:VCALENDAR
