BEGIN:VCALENDAR
VERSION:2.0
PRODID:-//ChamberMaster//Event Calendar 2.0//EN
METHOD:PUBLISH
X-PUBLISHED-TTL:P3D
REFRESH-INTERVAL:P3D
CALSCALE:GREGORIAN
BEGIN:VEVENT
DTSTART:20181020T180000Z
DTEND:20181020T220000Z
X-MICROSOFT-CDO-ALLDAYEVENT:FALSE
SUMMARY:Islay's Barrel Barrel Aged Brew Fest with Journeyman and Friends
DESCRIPTION:An event presented by Islay's (I-La) Barrel and hosted by Journeyman Distillery\, it's the 2nd Annual Islay's Barrel Brew Fest with Journeyman & Friends! We are truly humbled by the interest and commitments from the brewing industry.\n\n100% of the ticket sales go to Islay's Barrel\, a 501c3 nonprofit organization with a mission to extend summer program opportunities to South West Michigan children. Through various fundraisers\, Islay's Barrel raises money to send recipients to local summer programs. This is also a chance to support valuable programs\, such as the Dunes Learning Center and Camp Eberhart\, that serve kids in your community. Because of the generosity of friends like you\, we are able to continue to enhance the lives of the students and families we serve both socially and academically!\n\n30+ Breweries\, Mead/Cideries\, and Wineries will be on-site bringing their choice selection of brews. Any brewery that uses a Journeyman Barrel to age a beer\, will then be entered into the event's competition. Last year the winner was Greenbush Brewery with Rodeo de Cabra\, an 11.7% Imperial cream stout with blueberries\, maple syrup\, and vanilla. The winner will have their name and brew mounted onto the Golden Barrel\, get bragging rights\, and receive a custom tap handle.\n\n \n\n\n \n\nEVENT DETAILS   RAIN OR SHINE\n\nThis is an outdoor event\n\nWhen: Saturday\, October 20th\, 2018\n\nWhere: Journeyman Distillery\, 109 Generations Dr\, Three Oaks\, MI 49128\n\nVIP Tickets: $75 \n\nDoors at Noon for VIP ticket holders\n\n+ Get an extra hour of tasting\n\n+ Custom Barrel Aged Brewfest T-shirt\n\n+ DIY Pretzel Necklace\n\n+ Barrel Aged Brewfest Glass\n\n+ 8 beer tickets\n\nGeneral Admission: $45 \n\nFrom 1pm - 5pm EDT\n\n+ Barrel Aged Brewfest Glass\n\n+ 6 beer tickets\n\nDesignated Driver: $15\n\n \n\n\n \n\nThe list so far: \n\nMisbeehavin' Meads   Burn Em' Brewing   Four Fathers Brewing   The Livery   Sun King Brewery   Silver Harbor Brewing   South Bend Brew Werks   Crown Brewing   Three Blondes Brewing Co.   Half Acre Beer Co.   Crooked Ewe Brewery   Canton Brew Works   Watermark Brewing Co.   Pigeon Hill Brewing Company   St. John Malt Brothers   Lake Effect Brewing   Greenbush Brewing Co.   Peat's Original Cider   18th Street Brewery   Revolution Brewing   Dark Horse Brewing Company   Vander Mill   Evil Czech Brewery   Tibbs Brewing Company   Upland Brewing Co.   Open Outcry Brewing Company   Whiner Beer Company   & More to come!\n\n \n\n\n \n\n  Additional beer tickets can be purchased. (1 ticket per beer\, 4 tickets for $10\, 8 tickets for $20)\n\n  Grilled Food by Staymaker Restaurant's Chef\, Luke Caenepeel\, will be available for sale.\n\n  Brewers Competition for Breweries using Journeyman Distillery barrels\, determined by a panel of judges.\n\n \n\n\n \n\n  This is a 21 and over event.\n\n  Valid ID is REQUIRED regardless of age.\n\n  Free street parking\n\n \n\n\n \n\nIf you have any questions about the event\, or for breweries wanting to join\, please contact info@journeymandistillery.com\n\nInterested in volunteering? Contact us at islaysbarrel@gmail.com
X-ALT-DESC;FMTTYPE=text/html:<p>An event presented by Islay&rsquo\;s (I-La) Barrel and hosted by&nbsp\;Journeyman Distillery\, it&#39\;s the 2nd Annual&nbsp\;Islay&#39\;s Barrel Brew Fest with Journeyman &amp\; Friends!&nbsp\;We are truly humbled by the interest and commitments from the brewing industry.</p>\n\n<p>100% of the ticket sales go to&nbsp\;<a href="https://www.journeymandistillery.com/islays-barrel" rel="noopener noreferrer nofollow" style="color: rgb(61\, 100\, 255)\; text-decoration-line: none\; background-color: transparent\; padding-top: 0px\;" target="_blank">Islay&rsquo\;s Barrel</a>\, a 501c3&nbsp\;nonprofit organization with a mission to extend summer program opportunities to South West Michigan children. Through various fundraisers\, Islay&#39\;s Barrel raises money to send recipients to local summer programs. This is also a chance to support valuable programs\, such as the&nbsp\;<a href="https://duneslearningcenter.org/" rel="noopener noreferrer nofollow" style="color: rgb(61\, 100\, 255)\; text-decoration-line: none\; background-color: transparent\;" target="_blank">Dunes Learning Center&nbsp\;</a>and&nbsp\;<a href="https://ymcacampeberhart.org/" rel="noopener noreferrer nofollow" style="color: rgb(61\, 100\, 255)\; text-decoration-line: none\; background-color: transparent\;" target="_blank">Camp Eberhart</a>\, that serve kids in your community. Because of the generosity of friends like you\, we are able to continue to enhance the lives of the students and families we serve both socially and academically!</p>\n\n<p>30+ Breweries\, Mead/Cideries\, and Wineries will be on-site bringing their choice selection of brews.&nbsp\;Any brewery that uses a Journeyman Barrel to age a beer\, will then be entered into the event&#39\;s competition. Last year the winner was Greenbush Brewery with&nbsp\;<em>Rodeo de Cabra</em>\, an 11.7% Imperial cream stout with blueberries\, maple syrup\, and vanilla. The winner will have their name and brew mounted onto the Golden Barrel\, get bragging rights\, and receive a custom tap handle.</p>\n\n<p>&nbsp\;</p>\n\n<hr />\n<h3>&nbsp\;</h3>\n\n<h3><em>EVENT DETAILS&nbsp\;&ndash\;&nbsp\;</em><em>RAIN OR SHINE</em><br />\n<em>This is an outdoor event</em></h3>\n\n<p><strong>When:&nbsp\;</strong>Saturday\, October 20th\, 2018<br />\n<strong>Where:</strong>&nbsp\;Journeyman Distillery\,&nbsp\;109 Generations Dr\, Three Oaks\, MI 49128</p>\n\n<p><strong>VIP Tickets: $75</strong>&nbsp\;<br />\n<em>Doors at Noon for VIP ticket holders</em><br />\n+ Get an extra hour of tasting<br />\n+ Custom Barrel Aged Brewfest T-shirt<br />\n+ DIY Pretzel Necklace<br />\n+ Barrel Aged Brewfest Glass<br />\n+ 8 beer tickets</p>\n\n<p><strong>General Admission: $45</strong>&nbsp\;<br />\nFrom 1pm - 5pm EDT<br />\n+ Barrel Aged Brewfest Glass<br />\n+ 6 beer tickets</p>\n\n<p><strong>Designated Driver: $15</strong></p>\n\n<p>&nbsp\;</p>\n\n<hr />\n<p>&nbsp\;</p>\n\n<p><strong>The list so far:&nbsp\;</strong><br />\nMisbeehavin&#39\; Meads&nbsp\;&bull\; Burn Em&#39\; Brewing&nbsp\;&bull\; Four Fathers Brewing &bull\; The Livery &bull\; Sun King Brewery &bull\; Silver Harbor Brewing &bull\; South Bend Brew Werks &bull\; Crown Brewing &bull\; Three Blondes Brewing Co. &bull\; Half Acre Beer Co. &bull\; Crooked Ewe Brewery &bull\; Canton Brew Works &bull\; Watermark Brewing Co. &bull\; Pigeon Hill Brewing Company &bull\; St. John Malt Brothers &bull\; Lake Effect Brewing &bull\; Greenbush Brewing Co. &bull\; Peat&rsquo\;s Original Cider &bull\; 18th Street Brewery &bull\; Revolution Brewing &bull\; Dark Horse Brewing Company &bull\; Vander Mill &bull\; Evil Czech Brewery &bull\; Tibbs Brewing Company &bull\; Upland Brewing Co. &bull\;&nbsp\;Open Outcry Brewing Company &bull\; Whiner Beer Company &ndash\; &amp\; More to come!</p>\n\n<p>&nbsp\;</p>\n\n<hr />\n<p>&nbsp\;</p>\n\n<p>&bull\; Additional beer tickets can be purchased.&nbsp\;(1 ticket per beer\, 4 tickets for $10\, 8 tickets for $20)</p>\n\n<p>&bull\; Grilled Food by Staymaker Restaurant&#39\;s Chef\, Luke Caenepeel\, will be available for sale.</p>\n\n<p>&bull\; Brewers Competition for Breweries using Journeyman Distillery barrels\, determined by a&nbsp\;panel of&nbsp\;judges.</p>\n\n<p>&nbsp\;</p>\n\n<hr />\n<p>&nbsp\;</p>\n\n<p>&ndash\; This is a 21 and over event.</p>\n\n<p>&ndash\; Valid ID is REQUIRED regardless of age.</p>\n\n<p>&ndash\; Free street parking</p>\n\n<p>&nbsp\;</p>\n\n<hr />\n<p>&nbsp\;</p>\n\n<p>If you have any questions about the event\, or for breweries wanting to join\, please contact&nbsp\;<a href="mailto:info@journeymandistillery.com" rel="noopener noreferrer nofollow" style="color: rgb(61\, 100\, 255)\; text-decoration-line: none\; background-color: transparent\; padding-top: 0px\;" target="_blank">info@journeymandistillery.com</a></p>\n\n<p>Interested in volunteering? Contact us at&nbsp\;<a href="mailto:islaysbarrel@gmail.com" rel="noopener noreferrer nofollow" style="color: rgb(61\, 100\, 255)\; text-decoration-line: none\; background-color: transparent\; padding-top: 0px\;" target="_blank">islaysbarrel@gmail.com</a></p>\n
LOCATION:Journeyman Distillery 109 Generations Drive\, Three Oaks\, MI 49128
UID:e.1949.4256
SEQUENCE:3
DTSTAMP:20260424T042327Z
URL:https://members.laportepartnership.com/events/details/islay-s-barrel-barrel-aged-brew-fest-with-journeyman-and-friends-4256
END:VEVENT

END:VCALENDAR
