BEGIN:VCALENDAR
VERSION:2.0
PRODID:-//ChamberMaster//Event Calendar 2.0//EN
METHOD:PUBLISH
X-PUBLISHED-TTL:P3D
REFRESH-INTERVAL:P3D
CALSCALE:GREGORIAN
BEGIN:VEVENT
DTSTART:20160624T160000Z
DTEND:20160624T170000Z
X-MICROSOFT-CDO-ALLDAYEVENT:FALSE
SUMMARY:Jackson Street Community Garden Ribbon Cutting
DESCRIPTION:Join the neighborhood & friends in officially welcoming the Jackson Street Community Garden to Downtown La Porte on June 24! A ribbon cutting will take place at 11 a.m. at the community garden located at the corner of Jackson Street and Jefferson Avenue.\n\n\n\nLooking for more information about the Jackson Street Community Garden? Visit the Pax Center on Facebook at www.facebook.com/thepaxcenter or Laporte Community Garden at www.facebook.com/laportecommunitygardenproject.
X-ALT-DESC;FMTTYPE=text/html:Join the neighborhood &amp\; friends in officially welcoming the Jackson Street Community Garden to Downtown La Porte on June 24! A ribbon cutting will take place at 11 a.m. at the community garden located at the corner of Jackson Street and Jefferson Avenue.<br />\n<br />\nLooking for more information about the Jackson Street Community Garden? Visit the Pax Center on Facebook at www.facebook.com/thepaxcenter or Laporte Community Garden at www.facebook.com/laportecommunitygardenproject.
LOCATION:Jackson Street Community Garden Corner of Jackson Street and Jefferson Avenue La Porte
UID:e.1949.2570
SEQUENCE:3
DTSTAMP:20260426T035612Z
URL:https://members.laportepartnership.com/events/details/jackson-street-community-garden-ribbon-cutting-06-24-2016-2570
END:VEVENT

END:VCALENDAR
