BEGIN:VCALENDAR
VERSION:2.0
PRODID:-//ChamberMaster//Event Calendar 2.0//EN
METHOD:PUBLISH
X-PUBLISHED-TTL:P3D
REFRESH-INTERVAL:P3D
CALSCALE:GREGORIAN
BEGIN:VEVENT
DTSTART:20180909T210000Z
DTEND:20180909T230000Z
X-MICROSOFT-CDO-ALLDAYEVENT:FALSE
SUMMARY:James Comey opens Purdue University Northwest Sinai Forum’s 65th season
DESCRIPTION:Former FBI Director James Comey\, whose Amazon and New York Times best-selling book releases tomorrow\, opens the Purdue University Northwest Sinai Forum speakers series at 4 p.m. Sept. 9 in the Stardust Event Center at Blue Chip Casino\, Hotel & Spa in Michigan City\, Indiana.\n\n \n\nAppointed to the post of director by President Barack Obama in 2013\, Comey led the FBI until being dismissed by President Donald Trump in 2017. His speech\, "The Ethical Leader\," details his experience in public service.\n\n \n\nHosting prominent speakers has been the cornerstone of PNW Sinai Forum's renowned history\, entering its 65th season this fall. Executive Director Leslie Plesac said the forum provides audiences a unique opportunity to hear noted speakers in a town-hall style format.\n\n \n\nUrschel Laboratories\, Inc.\, the global leader in food cutting technology based in Chesterton\, Indiana\, is sponsoring the program featuring Comey.\n\n \n\nAs an employee-owned company\, Urschel Laboratories' CEO Rick Urschel says they share the forum's vision of bringing together a diverse and interesting array of speakers in an intimate setting.\n\n \n\n"Regardless of political affiliation\, ethics is something I hold in high regard\," said Urschel. "When presented with the opportunity to bring Former Director Comey to the forum\, we immediately wanted to help so people could hear him tell his story."\n\n \n\n"We are excited to bring James Comey and are most grateful for the generosity of Urschel Laboratories to make it possible\," said Plesac.\n\n \n\nThis year's PNW Sinai Forum season will host five speakers from September through December\, leading off with Comey. The remaining four speakers for the 2018 season will be announced late May and season series tickets go on sale in early June. \n\n \n\nProgram tickets\n\nTickets are sold as a season series for all programs. A limited number of single program tickets will be offered only for Comey.\n\n \n\nRegular season series tickets with general seating for all five programs are $150 each. Patron season series tickets\, including reserved seating and an exclusive reception with speakers before each program\, are $275 each. Single program tickets for Comey are $100 each.\n\n \n\nThe public can sign up to receive an email notice when tickets go on sale at www.pnw.edu/sinai-forum/. Admission for all programs is free for high school and college students with a valid student ID card.\n\n \n\nPurdue University Northwest Sinai Forum\n\nPurdue University Northwest Sinai Forum has brought world-renowned scholars\, leaders\, dignitaries\, artists and personalities to Northwest Indiana since 1953. Founded by Sylvia and Dr. Milton Bankoff with a mission to enlighten\, inspire and entertain\, the revered speakers' series came under the stewardship of PNW in 2006.\n\n \n\n \n\nPurdue University Northwest\n\nPurdue University Northwest (PNW) is a student-centered university that values academic excellence\, supports growth and celebrates diversity. Located in Northwest Indiana\, near Chicago\, PNW fosters a vibrant academic community through high quality and engaging undergraduate and graduate education. For more information about PNW\, visit www.pnw.edu.
X-ALT-DESC;FMTTYPE=text/html:Former FBI Director James Comey\, whose Amazon and <em>New York Times</em> best-selling book releases tomorrow\, opens the Purdue University Northwest Sinai Forum speakers series at 4 p.m. Sept. 9 in the Stardust Event Center at Blue Chip Casino\, Hotel &amp\; Spa in Michigan City\, Indiana.<br />\n&nbsp\;<br />\nAppointed to the post of director by President Barack Obama in 2013\, Comey led the FBI until being dismissed by President Donald Trump in 2017. His speech\, &ldquo\;The Ethical Leader\,&quot\; details his experience in public service.<br />\n&nbsp\;<br />\nHosting prominent speakers has been the cornerstone of PNW Sinai Forum&rsquo\;s renowned history\, entering its 65th season this fall. Executive Director Leslie Plesac said the forum provides audiences a unique opportunity to hear noted speakers in a town-hall style format.<br />\n&nbsp\;<br />\nUrschel Laboratories\, Inc.\, the global leader in food cutting technology based in Chesterton\, Indiana\, is sponsoring the program featuring Comey.<br />\n&nbsp\;<br />\nAs an employee-owned company\, Urschel Laboratories&rsquo\; CEO Rick Urschel says they share the forum&rsquo\;s vision of bringing together a diverse and interesting array of speakers in an intimate setting.<br />\n&nbsp\;<br />\n&ldquo\;Regardless of political affiliation\, ethics is something I hold in high regard\,&rdquo\; said Urschel. &ldquo\;When presented with the opportunity to bring Former Director Comey to the forum\, we immediately wanted to help so people could hear him tell his story.&rdquo\;<br />\n&nbsp\;<br />\n&ldquo\;We are excited to bring James Comey and are most grateful for the generosity of Urschel Laboratories to make it possible\,&rdquo\; said Plesac.<br />\n&nbsp\;<br />\nThis year&rsquo\;s PNW Sinai Forum season will host five speakers from September through December\, leading off with Comey. The remaining four speakers for the 2018 season will be announced late May and season series tickets go on sale in early June.&nbsp\;<br />\n&nbsp\;<br />\nProgram tickets<br />\nTickets are sold as a season series for all programs. A limited number of single program tickets will be offered only for Comey.<br />\n&nbsp\;<br />\nRegular season series tickets with general seating for all five programs are $150 each. Patron season series tickets\, including reserved seating and an exclusive reception with speakers before each program\, are $275 each. Single program tickets for Comey are $100 each.<br />\n&nbsp\;<br />\nThe public can sign up to receive an email notice when tickets go on sale at <a href="http://www.pnw.edu/sinai-forum/">www.pnw.edu/sinai-forum/</a>. Admission for all programs is free for high school and college students with a valid student ID card.<br />\n&nbsp\;<br />\nPurdue University Northwest Sinai Forum<br />\nPurdue University Northwest Sinai Forum has brought world-renowned scholars\, leaders\, dignitaries\, artists and personalities to Northwest Indiana since 1953. Founded by Sylvia and Dr. Milton Bankoff with a mission to enlighten\, inspire and entertain\, the revered speakers&rsquo\; series came under the stewardship of PNW in 2006.<br />\n&nbsp\;<br />\n&nbsp\;<br />\nPurdue University Northwest<br />\nPurdue University Northwest (PNW) is a student-centered university that values academic excellence\, supports growth and celebrates diversity. Located in Northwest Indiana\, near Chicago\, PNW fosters a vibrant academic community through high quality and engaging undergraduate and graduate education. For more information about PNW\, visit <a href="http://www.pnw.edu">www.pnw.edu</a>.
LOCATION:Stardust Event Center at Bue Chip Casino 777 Blue Chip Drive Michigan City
UID:e.1949.4112
SEQUENCE:3
DTSTAMP:20260424T055251Z
URL:https://members.laportepartnership.com/events/details/james-comey-opens-purdue-university-northwest-sinai-forum-s-65th-season-4112
END:VEVENT

END:VCALENDAR
