BEGIN:VCALENDAR
VERSION:2.0
PRODID:-//ChamberMaster//Event Calendar 2.0//EN
METHOD:PUBLISH
X-PUBLISHED-TTL:P3D
REFRESH-INTERVAL:P3D
CALSCALE:GREGORIAN
BEGIN:VEVENT
DTSTART:20160924T233000Z
DTEND:20160925T020000Z
X-MICROSOFT-CDO-ALLDAYEVENT:FALSE
SUMMARY:Jordan & James Music at Etropal
DESCRIPTION:Join Etropal for the dinner hour with music from Jordan and James! Enjoy your dinner and hear some complimentary music as well.
X-ALT-DESC;FMTTYPE=text/html:Join Etropal for the dinner hour with music from Jordan and James! Enjoy your dinner and hear some complimentary music as well.
LOCATION:Etropal Restaurant & Lounge 701 Lincolnway La Porte
UID:e.1949.2630
SEQUENCE:3
DTSTAMP:20260425T223451Z
URL:https://members.laportepartnership.com/events/details/jordan-james-music-at-etropal-2630
END:VEVENT

END:VCALENDAR
