BEGIN:VCALENDAR
VERSION:2.0
PRODID:-//ChamberMaster//Event Calendar 2.0//EN
METHOD:PUBLISH
X-PUBLISHED-TTL:P3D
REFRESH-INTERVAL:P3D
CALSCALE:GREGORIAN
BEGIN:VEVENT
DTSTART:20170719T220000Z
DTEND:20170720T000000Z
X-MICROSOFT-CDO-ALLDAYEVENT:FALSE
SUMMARY:July Idea & Information Exchange
DESCRIPTION:Please join us for the July Idea & Information Exchange\n\nand \n\nMichigan City Area Chamber of Commerce\n\nBusiness After Hours\n\nHosted by\n\nVisit Michigan City LaPorte\n\nMichigan City Area Chamber of Commerce\n\nAnd\n\nShady Creek Winery\n\n2030 Tryon Road\n\nMichigan City\, IN 46360\n\nWednesday\, July 19\, 2017 5:00-7:00 PM CST\n\n \n\nGuest Speaker - Robbie Bearss-Marketing Manager\n\nNorthern Indiana Tourism Development Commission (NITDC)\n\n \n\nComplimentary small bites will be served and there will be a cash bar.\n\n \n\nThere will be time for networking\, so bring brochures\, flyers and coupons.\n\n \n\nGifts\, Gifts\, Gifts!\n\nWe love gifts for our door awards!\n\nIf you wish to donate something\, please bring it along.\n\n Please Join Us!\n\nRSVP to Jane Daley by July 17\, 2017\n\n219-872-5055 \n\nE-mail - jane@michigancitylaporte.com
X-ALT-DESC;FMTTYPE=text/html:<strong><span style="color:blue\;"><span style="font-family:arial\,sans-serif\;"><span style="font-size:10.0pt\;">Please join us for the July Idea &amp\; Information Exchange</span></span></span></strong><br />\n<strong><span style="color:blue\;"><span style="font-family:arial\,sans-serif\;"><span style="font-size:10.0pt\;">and&nbsp\;</span></span></span></strong><br />\n<strong><span style="color:blue\;"><span style="font-family:arial\,sans-serif\;"><span style="font-size:10.0pt\;">Michigan City Area Chamber of Commerce</span></span></span></strong><br />\n<strong><span style="color:blue\;"><span style="font-family:arial\,sans-serif\;"><span style="font-size:10.0pt\;">Business After Hours</span></span></span></strong><br />\n<strong><span style="color:blue\;"><span style="font-family:arial\,sans-serif\;"><span style="font-size:10.0pt\;">Hosted by</span></span></span></strong><br />\n<strong><span style="color:blue\;"><span style="font-family:arial\,sans-serif\;"><span style="font-size:10.0pt\;"><a alt="http://michigancitylaporte.com/" href="http://r20.rs6.net/tn.jsp?f=001kIaXNJxQj6BAE-L-_m2s0A_s1xYgVYAs7BDs5AgylW2S1pmX57TJkgFRVZvhjUv2ZNKjeX5d0wiIfwbSO7bWgm3u4PMhk9LBMxwn74w9k2db5rtAh50rhOXNMOk1RihBM7gvubRyNZ0ia8l2wWBs7k8sJUh4EWejEWxNy7pCKGST1T5yzQZDjA==&amp\;c=nbDgR4RdyRqa-BUPuhbOX5FZW4d9ZJA0kY5eD7RA9I6bLDWUGLl9Lg==&amp\;ch=Q8P90n0LU3Ou-PpNEPEwp-Dl5jbHHRnC-qDR2DLgy4QSMs4BtKd-Qg==" linktype="1" shape="rect" target="_blank" track="on">Visit Michigan City LaPorte</a></span></span></span></strong><br />\n<strong><span style="color:blue\;"><span style="font-family:arial\,sans-serif\;"><span style="font-size:10.0pt\;"><a alt="http://www.mcachamber.com/" href="http://r20.rs6.net/tn.jsp?f=001kIaXNJxQj6BAE-L-_m2s0A_s1xYgVYAs7BDs5AgylW2S1pmX57TJkocnycuM7AHSh9cws6BxAlxKmm_ndTln4pnmtTIGkIpb6FFhs6jX9bwY5A4WGOmsq6aD2fubmCFGYT6s2USKH2JzhAhSWD-_eq9sKEdpeQy85zSUjotr989kO83tHSAyMg==&amp\;c=nbDgR4RdyRqa-BUPuhbOX5FZW4d9ZJA0kY5eD7RA9I6bLDWUGLl9Lg==&amp\;ch=Q8P90n0LU3Ou-PpNEPEwp-Dl5jbHHRnC-qDR2DLgy4QSMs4BtKd-Qg==" linktype="1" shape="rect" target="_blank" track="on">Michigan City Area Chamber of Commerce</a></span></span></span></strong><br />\n<strong><span style="color:blue\;"><span style="font-family:arial\,sans-serif\;"><span style="font-size:10.0pt\;">And</span></span></span></strong><br />\n<strong><span style="color:blue\;"><span style="font-family:arial\,sans-serif\;"><span style="font-size:10.0pt\;"><a alt="https://www.facebook.com/shadycreekwinery/?sw_fnr_id=895569655&amp\;rf=1455182614804052" href="http://r20.rs6.net/tn.jsp?f=001kIaXNJxQj6BAE-L-_m2s0A_s1xYgVYAs7BDs5AgylW2S1pmX57TJkocnycuM7AHSk0eX70XW9ZP_0fqq3IMesQHueWGzM3GgT0cpenPyXIBkXAbzoQNUurfDLEsKgPU0-M9Y-8HL5G19LYXGd7e-wUpM4s5wWkm5kZweNJMdrKuygJYWi68bTFuFwu4yOCOSMrv5aFeiLSkxdALgTqA31eCTR4jNVgyoU9Ab7yGJNZ1Kd3uXEnekqDpO8OKb1LAK4WK2Jp4OOw8=&amp\;c=nbDgR4RdyRqa-BUPuhbOX5FZW4d9ZJA0kY5eD7RA9I6bLDWUGLl9Lg==&amp\;ch=Q8P90n0LU3Ou-PpNEPEwp-Dl5jbHHRnC-qDR2DLgy4QSMs4BtKd-Qg==" linktype="1" shape="rect" target="_blank" track="on">Shady Creek Winery</a></span></span></span></strong><br />\n<strong><span style="color:blue\;"><span style="font-family:arial\,sans-serif\;"><span style="font-size:10.0pt\;">2030 Tryon Road</span></span></span></strong><br />\n<strong><span style="color:blue\;"><span style="font-family:arial\,sans-serif\;"><span style="font-size:10.0pt\;">Michigan City\, IN 46360</span></span></span></strong><br />\n<strong><span style="color:blue\;"><span style="font-family:arial\,sans-serif\;"><span style="font-size:10.0pt\;">Wednesday\, July 19\, 2017 5:00-7:00 PM CST</span></span></span></strong><br />\n&nbsp\;<br />\n<strong><span style="color:blue\;"><span style="font-family:arial\,sans-serif\;"><span style="font-size:10.0pt\;">Guest Speaker - Robbie Bearss-Marketing Manager</span></span></span></strong><br />\n<strong><span style="color:blue\;"><span style="font-family:arial\,sans-serif\;"><span style="font-size:10.0pt\;">Northern Indiana Tourism Development Commission (NITDC)</span></span></span></strong><br />\n&nbsp\;<br />\n<strong><span style="color:blue\;"><span style="font-family:arial\,sans-serif\;"><span style="font-size:10.0pt\;">Complimentary small bites will be served and there will be a cash bar.</span></span></span></strong><br />\n&nbsp\;<br />\n<strong><span style="color:blue\;"><span style="font-family:arial\,sans-serif\;"><span style="font-size:10.0pt\;">There will be time for networking\, so bring brochures\, flyers and coupons.</span></span></span></strong><br />\n&nbsp\;<br />\n<strong><span style="color:blue\;"><span style="font-family:arial\,sans-serif\;"><span style="font-size:10.0pt\;">Gifts\, Gifts\, Gifts!</span></span></span></strong><br />\n<strong><span style="color:blue\;"><span style="font-family:arial\,sans-serif\;"><span style="font-size:10.0pt\;">We love gifts for our door awards!</span></span></span></strong><br />\n<strong><span style="color:blue\;"><span style="font-family:arial\,sans-serif\;"><span style="font-size:10.0pt\;">If you wish to donate something\, please bring it along.</span></span></span></strong><br />\n<strong><span style="color:blue\;"><span style="font-family:arial\,sans-serif\;"><span style="font-size:10.0pt\;">&nbsp\;Please Join Us!</span></span></span></strong><br />\n<strong><span style="color:blue\;"><span style="font-family:arial\,sans-serif\;"><span style="font-size:10.0pt\;">RSVP to Jane Daley by July 17\, 2017</span></span></span></strong><br />\n<strong><span style="color:blue\;"><span style="font-family:arial\,sans-serif\;"><span style="font-size:10.0pt\;">219-872-5055 </span></span></span></strong><br />\n<strong><span style="color:blue\;"><span style="font-family:arial\,sans-serif\;"><span style="font-size:10.0pt\;">E-mail - <a href="mailto:jane@michigancitylaporte.com" shape="rect"><span style="font-weight:normal\;">jane@michigancitylaporte.com</span></a></span></span></span></strong>
LOCATION:Shady Creek Winery 2030 Tryon Road Michigan City
UID:e.1949.2830
SEQUENCE:3
DTSTAMP:20260425T041905Z
URL:https://members.laportepartnership.com/events/details/july-idea-information-exchange-2830
END:VEVENT

END:VCALENDAR
