BEGIN:VCALENDAR
VERSION:2.0
PRODID:-//ChamberMaster//Event Calendar 2.0//EN
METHOD:PUBLISH
X-PUBLISHED-TTL:P3D
REFRESH-INTERVAL:P3D
CALSCALE:GREGORIAN
BEGIN:VEVENT
DTSTART:20180726T220000Z
DTEND:20180727T000000Z
X-MICROSOFT-CDO-ALLDAYEVENT:FALSE
SUMMARY:July Idea & Information Exchange at Beechwood
DESCRIPTION:Don't forget the July Idea & Information Exchange\n\nHosted by\n\nVisit Michigan City LaPorte\n\nand\n\nCity of LaPorte Park & Recreation Department\n\nat\n\nBeechwood Golf Course\n\n2222 Woodlawn Drive\n\nLaPorte\, IN 46350\n\nThursday\, July 26\, 2018 starting at 5:00 PM\n\n \n\nJoin us in the newly renovated club house for complimentary light\n\n hors d'oeuvres\, soft drinks and a cash bar\n\nWe look forward to hearing all about what is new with your business or organization. Bring brochures\, sales coupons\,and sales flyers to put on our information table to share with others.\n\n \n\nStaff will be on hand with their updates.\n\n \n\nGifts\, Gifts\, Gifts!\n\nWe love gifts for our door awards!\n\nIf you wish to donate something\, please bring it along.\n\n \n\nPlease Join Us!\n\nRSVP to Jane Daley by July 22\, 2018\n\n219-872-5055\n\nE-mail - jane@michigancitylaporte.com
X-ALT-DESC;FMTTYPE=text/html:<span style="color:green\;"><span style="font-family:arial\,sans-serif\;"><span style="font-size:10.0pt\;">Don&#39\;t forget the July Idea &amp\; Information Exchange</span></span></span><br />\n<span style="color:green\;"><span style="font-family:arial\,sans-serif\;"><span style="font-size:10.0pt\;">Hosted by</span></span></span><br />\n<span style="color:green\;"><span style="font-family:arial\,sans-serif\;"><span style="font-size:10.0pt\;">Visit Michigan City LaPorte</span></span></span><br />\n<span style="color:green\;"><span style="font-family:arial\,sans-serif\;"><span style="font-size:10.0pt\;">and</span></span></span><br />\n<span style="color:green\;"><span style="font-family:arial\,sans-serif\;"><span style="font-size:10.0pt\;">City of LaPorte Park &amp\; Recreation Department</span></span></span><br />\n<span style="color:green\;"><span style="font-family:arial\,sans-serif\;"><span style="font-size:10.0pt\;">at</span></span></span><br />\n<span style="color:green\;"><span style="font-family:arial\,sans-serif\;"><span style="font-size:10.0pt\;">Beechwood Golf Course</span></span></span><br />\n<span style="color:green\;"><span style="font-family:arial\,sans-serif\;"><span style="font-size:10.0pt\;">2222 Woodlawn Drive</span></span></span><br />\n<span style="color:green\;"><span style="font-family:arial\,sans-serif\;"><span style="font-size:10.0pt\;">LaPorte\, IN 46350</span></span></span><br />\n<span style="color:green\;"><span style="font-family:arial\,sans-serif\;"><span style="font-size:10.0pt\;">Thursday\, July 26\, 2018 starting at 5:00 PM</span></span></span><br />\n&nbsp\;<br />\n<span style="color:green\;"><span style="font-family:arial\,sans-serif\;"><span style="font-size:10.0pt\;">Join us in the newly renovated club house for complimentary light</span></span></span><br />\n<span style="color:green\;"><span style="font-family:arial\,sans-serif\;"><span style="font-size:10.0pt\;">&nbsp\;hors d&#39\;oeuvres\, soft drinks and a cash bar</span></span></span><br />\n<span style="color:green\;"><span style="font-family:arial\,sans-serif\;"><span style="font-size:10.0pt\;">We look forward to hearing all about what is new with your business or organization. Bring brochures\, sales coupons\,and sales flyers to put on our information table to share with others.</span></span></span><br />\n&nbsp\;<br />\n<span style="color:green\;"><span style="font-family:arial\,sans-serif\;"><span style="font-size:10.0pt\;">Staff will be on hand with their updates.</span></span></span><br />\n&nbsp\;<br />\n<span style="color:green\;"><span style="font-family:arial\,sans-serif\;"><span style="font-size:10.0pt\;">Gifts\, Gifts\, Gifts!</span></span></span><br />\n<span style="color:green\;"><span style="font-family:arial\,sans-serif\;"><span style="font-size:10.0pt\;">We love gifts for our door awards!</span></span></span><br />\n<span style="color:green\;"><span style="font-family:arial\,sans-serif\;"><span style="font-size:10.0pt\;">If you wish to donate something\, please bring it along.</span></span></span><br />\n&nbsp\;<br />\n<span style="color:green\;"><span style="font-family:arial\,sans-serif\;"><span style="font-size:10.0pt\;">Please Join Us!</span></span></span><br />\n<span style="color:green\;"><span style="font-family:arial\,sans-serif\;"><span style="font-size:10.0pt\;">RSVP to Jane Daley by July 22\, 2018</span></span></span><br />\n<span style="color:green\;"><span style="font-family:arial\,sans-serif\;"><span style="font-size:10.0pt\;">219-872-5055</span></span></span><br />\n<span style="color:green\;"><span style="font-family:arial\,sans-serif\;"><span style="font-size:10.0pt\;">E-mail - <a href="mailto:jane@michigancitylaporte.com" shape="rect">jane@michigancitylaporte.com</a></span></span></span>
LOCATION:Beechwood Golf Course 2222 Woodlawn Drive La Porte
UID:e.1949.4214
SEQUENCE:3
DTSTAMP:20260424T071714Z
URL:https://members.laportepartnership.com/events/details/july-idea-information-exchange-at-beechwood-4214
END:VEVENT

END:VCALENDAR
