BEGIN:VCALENDAR
VERSION:2.0
PRODID:-//ChamberMaster//Event Calendar 2.0//EN
METHOD:PUBLISH
X-PUBLISHED-TTL:P3D
REFRESH-INTERVAL:P3D
CALSCALE:GREGORIAN
BEGIN:VEVENT
DTSTART:20160722T233000Z
DTEND:20160723T020000Z
X-MICROSOFT-CDO-ALLDAYEVENT:FALSE
SUMMARY:July String Magic at Etropal Restaurant and Lounge
DESCRIPTION:Join Etropal Restaurant and Lounge\, 701 Lincolnway in La Porte\, on July 22 for String Magic. This group will perform music and also magic during the night in a unique form of entertainment!  Call 219.575.7261 or email info@etropalrestaurant.com for more information.\n\n\n\nThis night will also be a Give Back Night for the Arts in the Park from 5 p.m.-8 p.m.
X-ALT-DESC;FMTTYPE=text/html:<span style="border: none\; border-image-source: none\; border-image-slice: 100% 1 0\; border-image-repeat: stretch\; font-stretch: inherit\; line-height: 20.8px\; font-family: Arial\, Helvetica\, sans-serif\; font-size: 16px\; font-weight: inherit\; margin: 0px\; outline: invert none medium\; padding: 0px\; vertical-align: baseline\; bottom: auto\; box-sizing: content-box\; clear: none\; color: rgb(0\, 0\, 0)\; content: normal\; direction: inherit\; empty-cells: show\; left: auto\; max-height: none\; max-width: none\; min-height: initial\; min-width: initial\; opacity: 1\; outline-offset: 0px\; overflow: visible\; position: static\; resize: none\; right: auto\; table-layout: auto\; text-overflow: clip\; top: auto\; visibility: inherit\; word-break: inherit\; word-wrap: inherit\; z-index: auto\; border-collapse: separate\; border-radius: 0px\; height: auto\; width: auto\; box-shadow: none\; background-image: none\; background-attachment: initial\; background-size: initial\; background-origin: initial\; background-clip: initial\; background-position: initial\; background-repeat: initial\;">Join Etropal Restaurant and Lounge\, 701 Lincolnway in La Porte\, on July 22 for String Magic. This group will perform music and also magic during the night in a unique form of entertainment! &nbsp\;Call 219.575.7261 or email info@etropalrestaurant.com for more information.<br />\n<br />\nThis night will also be a Give Back Night for the Arts in the Park from 5 p.m.-8 p.m.</span>
LOCATION:Etropal Restaurant and Lounge 701 Lincolnway La Porte
UID:e.1949.2591
SEQUENCE:3
DTSTAMP:20260426T021521Z
URL:https://members.laportepartnership.com/events/details/july-string-magic-at-etropal-restaurant-and-lounge-07-22-2016-2591
END:VEVENT

END:VCALENDAR
