BEGIN:VCALENDAR
VERSION:2.0
PRODID:-//ChamberMaster//Event Calendar 2.0//EN
METHOD:PUBLISH
X-PUBLISHED-TTL:P3D
REFRESH-INTERVAL:P3D
CALSCALE:GREGORIAN
BEGIN:VEVENT
DTSTART:20160616T213000Z
DTEND:20160616T230000Z
X-MICROSOFT-CDO-ALLDAYEVENT:FALSE
SUMMARY:June Idea & Information Exchange/MC Business after Hours & Ice Cream Social
DESCRIPTION:Hosted by\n\nVisit Michigan City LaPorte\n\nMichigan City Area Chamber of Commerce\n\nAnd\n\nFriendship Botanical Gardens\n\n2055 E US Hwy 12\n\nMichigan City\, IN 46360\n\nThursday\, June 16\, 2016 at 4:30 pm\n\n \n\nEnjoy 8 different flavors of ice cream!\n\n \n\nThis will be a fun event with ice cream\, tours and fun for the kids too.\n\n Bring brochures\, sales coupons\, and sales flyers to put on our information table to share with others.\n\n \n\nGifts\, Gifts\, Gifts!\n\nWe love gifts for our door awards!\n\nIf you wish to donate something please bring it along.\n\nPlease let us know you are coming.\n\nRSVP to Jane Daley by June 14\, 2016\n\n219-872-5055
X-ALT-DESC;FMTTYPE=text/html:<span style="color:#0E5C0E\;"><span style="font-family:arial\,sans-serif\;"><span style="font-size:10.0pt\;">Hosted by</span></span></span><br />\n<span style="color:#0E5C0E\;"><span style="font-family:arial\,sans-serif\;"><span style="font-size:10.0pt\;">Visit Michigan City LaPorte</span></span></span><br />\n<span style="color:#0E5C0E\;"><span style="font-family:arial\,sans-serif\;"><span style="font-size:10.0pt\;">Michigan City Area Chamber of Commerce</span></span></span><br />\n<span style="color:#0E5C0E\;"><span style="font-family:arial\,sans-serif\;"><span style="font-size:10.0pt\;">And</span></span></span><br />\n<span style="color:#0E5C0E\;"><span style="font-family:arial\,sans-serif\;"><span style="font-size:10.0pt\;">Friendship Botanical Gardens</span></span></span><br />\n<span style="color:#0E5C0E\;"><span style="font-family:arial\,sans-serif\;"><span style="font-size:10.0pt\;">2055 E US Hwy 12</span></span></span><br />\n<span style="color:#0E5C0E\;"><span style="font-family:arial\,sans-serif\;"><span style="font-size:10.0pt\;">Michigan City\, IN 46360</span></span></span><br />\n<span style="color:#0E5C0E\;"><span style="font-family:arial\,sans-serif\;"><span style="font-size:10.0pt\;">Thursday\, June 16\, 2016 at 4:30 pm</span></span></span><br />\n&nbsp\;<br />\n<span style="color:#0E5C0E\;"><span style="font-family:arial\,sans-serif\;"><span style="font-size:10.0pt\;">Enjoy 8 different flavors of ice cream!</span></span></span><br />\n&nbsp\;<br />\n<span style="color:#0E5C0E\;"><span style="font-family:arial\,sans-serif\;"><span style="font-size:10.0pt\;">This will be a fun event with ice cream\, tours and fun for the kids too.</span></span></span><br />\n<span style="color:#0E5C0E\;"><span style="font-family:arial\,sans-serif\;"><span style="font-size:10.0pt\;">&nbsp\;Bring brochures\, sales coupons\, and sales flyers to put on our information table to share with others.</span></span></span><br />\n&nbsp\;<br />\n<span style="color:#0E5C0E\;"><span style="font-family:arial\,sans-serif\;"><span style="font-size:10.0pt\;">Gifts\, Gifts\, Gifts!</span></span></span><br />\n<span style="color:#0E5C0E\;"><span style="font-family:arial\,sans-serif\;"><span style="font-size:10.0pt\;">We love gifts for our door awards!</span></span></span><br />\n<span style="color:#0E5C0E\;"><span style="font-family:arial\,sans-serif\;"><span style="font-size:10.0pt\;">If you wish to donate something please bring it along.</span></span></span><br />\n<span style="color:#0E5C0E\;"><span style="font-family:arial\,sans-serif\;"><span style="font-size:10.0pt\;">Please let us know you are coming.</span></span></span><br />\n<span style="color:#0E5C0E\;"><span style="font-family:arial\,sans-serif\;"><span style="font-size:10.0pt\;">RSVP to Jane Daley by June 14\, 2016</span></span></span><br />\n<span style="color:#0E5C0E\;"><span style="font-family:arial\,sans-serif\;"><span style="font-size:10.0pt\;">219-872-5055&nbsp\;</span></span></span>
LOCATION:Friendship Botanical Gardens 2055 E. US Highway 12 Michigan City\, IN
UID:e.1949.2569
SEQUENCE:3
DTSTAMP:20260426T034401Z
URL:https://members.laportepartnership.com/events/details/june-idea-information-exchange-mc-business-after-hours-ice-cream-social-06-16-2016-2569
END:VEVENT

END:VCALENDAR
