BEGIN:VCALENDAR
VERSION:2.0
PRODID:-//ChamberMaster//Event Calendar 2.0//EN
METHOD:PUBLISH
X-PUBLISHED-TTL:P3D
REFRESH-INTERVAL:P3D
CALSCALE:GREGORIAN
BEGIN:VEVENT
DTSTART:20180612T223000Z
DTEND:20180613T000000Z
X-MICROSOFT-CDO-ALLDAYEVENT:FALSE
SUMMARY:June Membership Meeting and CE Night with Tim Reed- LPCAR
DESCRIPTION:June 12\, 2018 General Membership Meeting and CE Night\n\n\n\nJune Membership Meeting and CE Night with Tim Reed - 2 Hours/Credit Scoring- CE is free to LPCAR members\; $15 for non-members\n\n\n\n\nWhen\n\n \n\n\n\nJun 12\, 5:30 PM\n\n\n \n\nWhere\n\n \n\n\n\nPortofino Grill\n\n3233 IN-39\, La Porte\, IN 46350
X-ALT-DESC;FMTTYPE=text/html:<div class="ev-title">\n<div class="ev-title__text ng-binding" ng-bind="$ctrl.eventTitle" role="header">June 12\, 2018 General Membership Meeting and CE Night</div>\n</div>\n\n<div class="ev-description">\n<div class="ev-description__text ng-binding ng-scope" ng-bind="$ctrl.description" ng-if="$ctrl.description">June Membership Meeting and CE Night with Tim Reed - 2 Hours/Credit Scoring- CE is free to LPCAR members\; $15 for non-members</div>\n</div>\n\n<div class="ev-event-date-and-location ng-scope" ng-if="!$ctrl.settingsHelper.isCompactDateAndLocationVisible() &amp\;&amp\; ($ctrl.settingsHelper.isDateVisible() || $ctrl.settingsHelper.isLocationVisible())" ng-style="{ 'margin-bottom': $ctrl.eventParams.numbers.dateAndLocationMarginBottom }" style="margin-bottom: 54px\;"><ev-date class="ng-scope ng-isolate-scope" date-tbd="$ctrl.eventData.dateTbd" date-title="$ctrl.eventSettings.texts.time" divider-height="$ctrl.eventParams.numbers.horizontalDividerHeight" divider-width="$ctrl.eventParams.numbers.horizontalDividerWidth" end-date-i-s-o="$ctrl.eventData.endDateISO" ng-if="$ctrl.settingsHelper.isDateVisible()" ng-style="{ 'margin-bottom': $ctrl.isMobile || $ctrl.settingsHelper.isHorizontalDateAndLocationVisible() ? 0 : $ctrl.eventParams.numbers.dateMarginBottom }" show-divider="$ctrl.settingsHelper.isDividersVisible() &amp\;&amp\; $ctrl.settingsHelper.isVerticalDateAndLocationVisible()" show-title="$ctrl.settingsHelper.isDateLabelVisible()" start-date-i-s-o="$ctrl.eventData.startDateISO" style="margin-bottom: 98px\;" tbd-message="$ctrl.eventData.dateTbdMessage" time-zone-id="$ctrl.eventData.timeZoneId">\n<div class="ev-date">\n<div class="ev-date__title ng-binding ng-scope" ng-bind="$ctrl.dateTitle" ng-if="$ctrl.showTitle">When</div>\n<ev-divider class="ng-scope ng-isolate-scope" height="$ctrl.dividerHeight" ng-if="$ctrl.showDivider &amp\;&amp\; $ctrl.showTitle" width="$ctrl.dividerWidth">\n<div class="ev-divider" ng-style="{ width: $ctrl.width\, height: $ctrl.height }" style="width: 20px\; height: 3px\;">&nbsp\;</div>\n</ev-divider>\n\n<div aria-label="Jun 12\, 5:30 PM undefined" class="ev-date__date-time" role="text">\n<div class="ev-date__date ng-binding ng-scope" ng-if="!$ctrl.tbd">Jun 12\, 5:30 PM</div>\n</div>\n</div>\n</ev-date> <ev-location class="ng-scope ng-isolate-scope" divider-height="$ctrl.eventParams.numbers.horizontalDividerHeight" divider-width="$ctrl.eventParams.numbers.horizontalDividerWidth" location="$ctrl.eventData.location" location-tbd="$ctrl.eventData.locationTbd" location-title="$ctrl.eventSettings.texts.location" ng-if="$ctrl.settingsHelper.isLocationVisible()" ng-style="{ 'margin-bottom': $ctrl.settingsHelper.isHorizontalDateAndLocationVisible() ? 0 : $ctrl.eventParams.numbers.locationMarginBottom }" show-divider="$ctrl.settingsHelper.isDividersVisible() &amp\;&amp\; $ctrl.settingsHelper.isVerticalDateAndLocationVisible()" show-title="$ctrl.settingsHelper.isLocationLabelVisible()" style="margin-bottom: 50px\;" tbd-message="$ctrl.eventData.locationTbdMessage">\n<div class="ev-location">\n<div class="ev-location__title ng-binding ng-scope" ng-bind="$ctrl.locationTitle" ng-if="$ctrl.showTitle">Where</div>\n<ev-divider class="ng-scope ng-isolate-scope" height="$ctrl.dividerHeight" ng-if="$ctrl.showDivider &amp\;&amp\; $ctrl.showTitle" width="$ctrl.dividerWidth">\n<div class="ev-divider" ng-style="{ width: $ctrl.width\, height: $ctrl.height }" style="width: 20px\; height: 3px\;">&nbsp\;</div>\n</ev-divider>\n\n<div aria-label="Portofino Grill\, 3233 IN-39\, La Porte\, IN 46350" class="ev-location__location" role="text">\n<div class="ev-location__location-venue ng-binding ng-scope" ng-bind="$ctrl.location.name" ng-if="!$ctrl.tbd &amp\;&amp\; $ctrl.location.name">Portofino Grill</div>\n\n<div class="ev-location__location-address ng-binding ng-scope" ng-bind="$ctrl.location.address" ng-if="!$ctrl.tbd">3233 IN-39\, La Porte\, IN 46350</div>\n</div>\n</div>\n</ev-location></div>\n
LOCATION:Portofino Grill 3233 N. State Road 39 La Porte
UID:e.1949.4180
SEQUENCE:3
DTSTAMP:20260424T103931Z
URL:https://members.laportepartnership.com/events/details/june-membership-meeting-and-ce-night-with-tim-reed-lpcar-4180
END:VEVENT

END:VCALENDAR
