BEGIN:VCALENDAR
VERSION:2.0
PRODID:-//ChamberMaster//Event Calendar 2.0//EN
METHOD:PUBLISH
X-PUBLISHED-TTL:P3D
REFRESH-INTERVAL:P3D
CALSCALE:GREGORIAN
BEGIN:VEVENT
DTSTART:20180515T230000Z
DTEND:20180517T010000Z
X-MICROSOFT-CDO-ALLDAYEVENT:FALSE
SUMMARY:Junior Achievement Achieve-A-Bowl
DESCRIPTION:Join Junior Achievement of La Porte County for Achieve-A-Bowl on May 15th at City Lanes\, 1901 S. Woodland Avenue in Michigan City\, and on May 16th at Thunderbird Lanes\, 1251 Pine Lake Avenue in La Porte. Both of these events will take place from 6:00 p.m.-8:00 p.m. with registration at 5:30 p.m Proceeds will go to Junior Achievement. Sponsorship opportunities are also available. This event is open to everyone! For more information\, contact lisa at lisa.scheller@ja.org.
X-ALT-DESC;FMTTYPE=text/html:Join Junior Achievement of La Porte County for Achieve-A-Bowl on May 15th at City Lanes\, 1901 S. Woodland Avenue in Michigan City\, and on May 16th at Thunderbird Lanes\, 1251 Pine Lake Avenue in La Porte. Both of these events will take place from 6:00 p.m.-8:00 p.m. with registration at 5:30 p.m Proceeds will go to Junior Achievement. Sponsorship opportunities are also available. This event is open to everyone! For more information\, contact lisa at lisa.scheller@ja.org.
LOCATION:May 15th at City Lanes 1901 S. Woodland Avenue in Michigan City May 16th at Thunderbird Lanes\, 1251 Pine Lake Avenue in La Porte
UID:e.1949.4143
SEQUENCE:3
DTSTAMP:20260424T115548Z
URL:https://members.laportepartnership.com/events/details/junior-achievement-achieve-a-bowl-4143
END:VEVENT

END:VCALENDAR
