BEGIN:VCALENDAR
VERSION:2.0
PRODID:-//ChamberMaster//Event Calendar 2.0//EN
METHOD:PUBLISH
X-PUBLISHED-TTL:P3D
REFRESH-INTERVAL:P3D
CALSCALE:GREGORIAN
BEGIN:VEVENT
DTSTART:20171006T170000Z
DTEND:20171006T173000Z
X-MICROSOFT-CDO-ALLDAYEVENT:FALSE
SUMMARY:K Tool & Fire Ribbon Cutting
DESCRIPTION:K Tool & Fire will be moving locations from 1309 E. State Road 4 to 2104 Ohio Street in La Porte. To celebrate\, the business will hold a ribbon cutting administered by the Greater La Porte Chamber of Commerce on October 6 at 12:00 p.m. at the new location.\n\nK Tool & Fire is an outdoor power equipment dealer that also does small engine repair. The business also does fire extinguisher service and sales as well as sells industrial and construction supplies. Power tool warranty\, repair\, and sales are also performed by the company.\n\nFor more information about K Tool & Fire\, visit www.ktoolfirellc.com\, like their Facebook page\, or email ktoolfirellc.com. For more information about the Greater La Porte Chamber of Commerce\, visit www.lpchamber.com\, like their Facebook page\, or call 219.362.3178.
X-ALT-DESC;FMTTYPE=text/html:<span style="font-family:georgia\,serif\;"><span style="font-size:12.0pt\;">K Tool &amp\; Fire will be moving locations from 1309 E. State Road 4 to 2104 Ohio Street in La Porte. To celebrate\, the business will hold a ribbon cutting administered by the Greater La Porte Chamber of Commerce on October 6 at 12:00 p.m. at the new location.</span></span><br />\n<span style="font-family:georgia\,serif\;"><span style="font-size:12.0pt\;">K Tool &amp\; Fire is an outdoor power equipment dealer that also does small engine repair. The business also does fire extinguisher service and sales as well as sells industrial and construction supplies. Power tool warranty\, repair\, and sales are also performed by the company.</span></span><br />\n<span style="font-family:georgia\,serif\;"><span style="font-size:12.0pt\;">For more information about K Tool &amp\; Fire\, visit www.ktoolfirellc.com\, like their Facebook page\, or email ktoolfirellc.com. For more information about the Greater La Porte Chamber of Commerce\, visit www.lpchamber.com\, like their Facebook page\, or call 219.362.3178.</span></span>
LOCATION:K Tool & Fire's New Location 2104 Ohio Street La Porte
UID:e.1949.2879
SEQUENCE:3
DTSTAMP:20260424T230127Z
URL:https://members.laportepartnership.com/events/details/k-tool-fire-ribbon-cutting-2879
END:VEVENT

END:VCALENDAR
