BEGIN:VCALENDAR
VERSION:2.0
PRODID:-//ChamberMaster//Event Calendar 2.0//EN
METHOD:PUBLISH
X-PUBLISHED-TTL:P3D
REFRESH-INTERVAL:P3D
CALSCALE:GREGORIAN
BEGIN:VEVENT
DTSTART:20190824T160000Z
DTEND:20190824T190000Z
X-MICROSOFT-CDO-ALLDAYEVENT:FALSE
SUMMARY:Kabelin Ace Annual Grill Fest
DESCRIPTION:We are hosting our Annual Grill Fest on August 24\, 2019 from 11am-2pm! Come out to try unique recipes on the Traeger and Big Green Egg grills. Talk with our grilling experts to find the right grill for you! Take advantage of huge savings with our Demo Grill Program- save 20% on a grill that has been used just once the day of the event. Pre-purchase and reserve your demo grill today! Limited quantities available!
X-ALT-DESC;FMTTYPE=text/html:<span style="color: rgb(29\, 33\, 41)\; font-family: Helvetica\, Arial\, sans-serif\; font-size: 14px\; white-space: pre-wrap\; background-color: rgb(255\, 255\, 255)\;">We are hosting our Annual Grill Fest on August 24\, 2019 from 11am-2pm! Come out to try unique recipes on the Traeger and Big Green Egg grills. Talk with our grilling experts to find the right grill for you! Take advantage of huge savings with our Demo Grill Program- save 20% on a grill that has been used just once the day of the event. Pre-purchase and reserve your demo grill today! Limited quantities available!</span>
LOCATION:Kabelin Ace 512 Andrew Avenue La Porte\, IN 46350
UID:e.1949.4382
SEQUENCE:3
DTSTAMP:20260423T114027Z
URL:https://members.laportepartnership.com/events/details/kabelin-ace-annual-grill-fest-4382
END:VEVENT

END:VCALENDAR
