BEGIN:VCALENDAR
VERSION:2.0
PRODID:-//ChamberMaster//Event Calendar 2.0//EN
METHOD:PUBLISH
X-PUBLISHED-TTL:P3D
REFRESH-INTERVAL:P3D
CALSCALE:GREGORIAN
BEGIN:VEVENT
DTSTART:20170826T160000Z
DTEND:20170826T190000Z
X-MICROSOFT-CDO-ALLDAYEVENT:FALSE
SUMMARY:Kabelin Ace Grill Fest
DESCRIPTION:Join us at Kabelin Ace Hardware in La Porte and Michigan City for our 3rd Annual Grill Fest! We will be grilling delicious food on our 3 premium brands of grills- Big Green Egg\, Weber\, and Traeger. Come out to sample unique recipes and take advantage of HUGE grill savings! See you there!
X-ALT-DESC;FMTTYPE=text/html:Join us at Kabelin Ace Hardware in La Porte and Michigan City for our 3rd Annual Grill Fest! We will be grilling delicious food on our 3 premium brands of grills- Big Green Egg\, Weber\, and Traeger. Come out to sample unique recipes and take advantage of HUGE grill savings! See you there!
LOCATION:Kabelin Ace Hardware 512 Andrew Ave La Porte\, IN 46350 Kabelin Ace Hardware 432 St. John Rd Michigan City\, IN 46360
UID:e.1949.2860
SEQUENCE:3
DTSTAMP:20260425T021455Z
URL:https://members.laportepartnership.com/events/details/kabelin-ace-grill-fest-2860
END:VEVENT

END:VCALENDAR
