BEGIN:VCALENDAR
VERSION:2.0
PRODID:-//ChamberMaster//Event Calendar 2.0//EN
METHOD:PUBLISH
X-PUBLISHED-TTL:P3D
REFRESH-INTERVAL:P3D
CALSCALE:GREGORIAN
BEGIN:VEVENT
DTSTART:20180505T160000Z
DTEND:20180505T190000Z
X-MICROSOFT-CDO-ALLDAYEVENT:FALSE
SUMMARY:Kabelin Ace Hardware 4th Annual BBQ Fest
DESCRIPTION:You are invited to the biggest grilling event of the year! Come to any Kabelin Ace Hardware location on May 5th to join in on the grilling fun! Take advantage of once-a-year deals\, try unique recipes\, and talk with our grilling experts! If you are thinking about purchasing a grill this summer\, this is the time to do it! This is an opportunity to try before you buy. We will be cooking on Weber\, Traeger\, and Big Green Egg grills. Want to purchase a Big Green Egg at 20% off the regular price? Pre-purchase a demo grill! A demo grill will have been cooked on one time during our BBQ Fest. After that\, it's yours...for a huge discount! Quantities are limited! Pre-purchase your Big Green Egg now! Join us for a day of fun\, food\, and friends! This is a family friendly event. See you there!
X-ALT-DESC;FMTTYPE=text/html:You are invited to the biggest grilling event of the year! Come to any Kabelin Ace Hardware location on May 5th to join in on the grilling fun! Take advantage of once-a-year deals\, try unique recipes\, and talk with our grilling experts! If you are thinking about purchasing a grill this summer\, this is the time to do it! This is an opportunity to try before you buy. We will be cooking on Weber\, Traeger\, and Big Green Egg grills. Want to purchase a Big Green Egg at 20% off the regular price? Pre-purchase a demo grill! A demo grill will have been cooked on one time during our BBQ Fest. After that\, it&#39\;s yours...for a huge discount! Quantities are limited! Pre-purchase your Big Green Egg now! Join us for a day of fun\, food\, and friends! This is a family friendly event. See you there!
LOCATION:512 Andrew Ave La Porte\, IN 46350
UID:e.1949.4106
SEQUENCE:3
DTSTAMP:20260424T103407Z
URL:https://members.laportepartnership.com/events/details/kabelin-ace-hardware-4th-annual-bbq-fest-4106
END:VEVENT

END:VCALENDAR
