BEGIN:VCALENDAR
VERSION:2.0
PRODID:-//ChamberMaster//Event Calendar 2.0//EN
METHOD:PUBLISH
X-PUBLISHED-TTL:P3D
REFRESH-INTERVAL:P3D
CALSCALE:GREGORIAN
BEGIN:VEVENT
DTSTART:20161022T160000Z
DTEND:20161022T190000Z
X-MICROSOFT-CDO-ALLDAYEVENT:FALSE
SUMMARY:Kabelin Ace Hardware Big Green Egg Fest
DESCRIPTION:You're invited to join the fall grilling fun at the 2nd Annual Big Green Egg Fest at Kabelin Ace Hardware! Join us at any of our 6 locations for tons of family fun! We will have contests at our Granger and Michigan City locations. 15 volunteer cooks will show off their skills and you get to be the judge! There will be fun fall festivities at all of our locations. In addition to live demos on the Big Green Egg\, there will be a pumpkin carving contest for the kids! Food and fun...all for a great cause! Proceeds will be donated to Christmas Commandos and Stepping Stone Women's Shelter. Can't wait to see you there!
X-ALT-DESC;FMTTYPE=text/html:<span style="color:rgb(75\, 79\, 86)\; font-family:helvetica\,arial\,sans-serif\; font-size:14px">You&rsquo\;re invited to join the fall grilling fun at the 2nd Annual Big Green Egg Fest at Kabelin Ace Hardware! Join us at any of our 6 locations for tons of family fun! We will have contests at our Granger and Michigan City locations. 15 volunteer cooks will show off their skills and you get to be the judge! There will be fun fall festivities at all of our locations. In addition to live demos on the Big Green Egg\, there will be a pumpkin carving contest for the kids! Food and fun...all for a great cause! Proceeds will be donated to Christmas Commandos and Stepping Stone Women&#39\;s Shelter. Can&#39\;t wait to see you there!</span>
LOCATION:All Kabelin Ace Hardware locations! La Porte West- 512 Andrew Ave. La Porte East- 605 E. Lincolnway Michigan City (contest location)- 432 St. John Rd. Granger (contest location)- 12820 Adams Rd. South Bend- 1910 E. Ireland Rd. Walkerton- 410 Indiana St.
UID:e.1949.2651
SEQUENCE:3
DTSTAMP:20260425T204155Z
URL:https://members.laportepartnership.com/events/details/kabelin-ace-hardware-big-green-egg-fest-2651
END:VEVENT

END:VCALENDAR
