BEGIN:VCALENDAR
VERSION:2.0
PRODID:-//ChamberMaster//Event Calendar 2.0//EN
METHOD:PUBLISH
X-PUBLISHED-TTL:P3D
REFRESH-INTERVAL:P3D
CALSCALE:GREGORIAN
BEGIN:VEVENT
DTSTART:20170111T000000Z
DTEND:20170111T013000Z
X-MICROSOFT-CDO-ALLDAYEVENT:FALSE
SUMMARY:Kick Off - Relay For Life of LP Cnty
DESCRIPTION:Kick off to the 22nd Annual Relay For Life of LaPorte County. If you want to have fun and learn more about Relay\, ALL are welcome to attend. We will have Food\, Fun and Information.
X-ALT-DESC;FMTTYPE=text/html:Kick off to the 22nd Annual Relay For Life of LaPorte County. If you want to have fun and learn more about Relay\, ALL are welcome to attend. We will have Food\, Fun and Information.
LOCATION:LaPorte County Fairgrounds - Community Bldg
UID:e.1949.2687
SEQUENCE:3
DTSTAMP:20260425T154346Z
URL:https://members.laportepartnership.com/events/details/kick-off-relay-for-life-of-lp-cnty-2687
END:VEVENT

END:VCALENDAR
