BEGIN:VCALENDAR
VERSION:2.0
PRODID:-//ChamberMaster//Event Calendar 2.0//EN
METHOD:PUBLISH
X-PUBLISHED-TTL:P3D
REFRESH-INTERVAL:P3D
CALSCALE:GREGORIAN
BEGIN:VEVENT
DTSTART:20170423T123000Z
DTEND:20170423T173000Z
X-MICROSOFT-CDO-ALLDAYEVENT:FALSE
SUMMARY:Kiwanis Club of La Porte Annual Pancake Breakfast
DESCRIPTION:Kiwanis Club of La Porte Annual Pancake Breakfast is being held at the La Porte Armory\, located on Highway 2 just before the fairgrounds\, on Sunday April 23rd starting at 7:30am and ending at 12:30pm\n\n \n\nTickets:                 $7 per adult   all you can eat\n\n                                $3 per child 12 and under\n\n                                Pre-school   Free\n\n \n\nKiwanis is a global organization of volunteers dedicated to serving one child and one community at time.    All proceeds raised at any Kiwanis fundraising event goes directly back into the community.   \n\nFor pre-sale tickets please contact Amy Riehle at amy@michigancitylaporte.com or purchase at the door.
X-ALT-DESC;FMTTYPE=text/html:Kiwanis Club of La Porte Annual Pancake Breakfast is being held at the La Porte Armory\, located on Highway 2 just before the fairgrounds\, on Sunday April 23<sup>rd</sup> starting at 7:30am and ending at 12:30pm<br />\n&nbsp\;<br />\nTickets: &nbsp\;&nbsp\;&nbsp\;&nbsp\;&nbsp\;&nbsp\;&nbsp\;&nbsp\;&nbsp\;&nbsp\;&nbsp\;&nbsp\;&nbsp\;&nbsp\;&nbsp\; $7 per adult &ndash\; all you can eat<br />\n&nbsp\;&nbsp\;&nbsp\;&nbsp\;&nbsp\;&nbsp\;&nbsp\;&nbsp\;&nbsp\;&nbsp\;&nbsp\;&nbsp\;&nbsp\;&nbsp\;&nbsp\; &nbsp\;&nbsp\;&nbsp\;&nbsp\;&nbsp\;&nbsp\;&nbsp\;&nbsp\;&nbsp\;&nbsp\;&nbsp\;&nbsp\;&nbsp\;&nbsp\;&nbsp\; $3 per child 12 and under<br />\n&nbsp\;&nbsp\;&nbsp\;&nbsp\;&nbsp\;&nbsp\;&nbsp\;&nbsp\;&nbsp\;&nbsp\;&nbsp\;&nbsp\;&nbsp\;&nbsp\;&nbsp\;&nbsp\;&nbsp\;&nbsp\;&nbsp\;&nbsp\;&nbsp\;&nbsp\;&nbsp\;&nbsp\;&nbsp\;&nbsp\;&nbsp\;&nbsp\;&nbsp\;&nbsp\;&nbsp\; Pre-school &ndash\; Free<br />\n&nbsp\;<br />\nKiwanis is a global organization of volunteers dedicated to serving one child and one community at time. &nbsp\;&nbsp\;&nbsp\;All proceeds raised at any Kiwanis fundraising event goes directly back into the community.&nbsp\;&nbsp\;&nbsp\;<br />\nFor pre-sale tickets please contact Amy Riehle at <a href="mailto:amy@michigancitylaporte.com">amy@michigancitylaporte.com</a> or purchase at the door. &nbsp\;&nbsp\;
LOCATION:The La Porte Armory 2391 State Road 2 La Porte
UID:e.1949.2767
SEQUENCE:3
DTSTAMP:20260425T115030Z
URL:https://members.laportepartnership.com/events/details/kiwanis-club-of-la-porte-annual-pancake-breakfast-2767
END:VEVENT

END:VCALENDAR
