BEGIN:VCALENDAR
VERSION:2.0
PRODID:-//ChamberMaster//Event Calendar 2.0//EN
METHOD:PUBLISH
X-PUBLISHED-TTL:P3D
REFRESH-INTERVAL:P3D
CALSCALE:GREGORIAN
BEGIN:VEVENT
DTSTART:20170927T140000Z
DTEND:20170927T150000Z
X-MICROSOFT-CDO-ALLDAYEVENT:FALSE
SUMMARY:Know Your Customers\, Increase your Profits
DESCRIPTION:This workshop will explore the importance of knowing the needs and wants of current and potential customers\, and why such knowledge is critical to the growth of any business.  We will explore the various approaches small businesses can use to tap into factors that generate customer loyalty.  Using real world examples\, you will learn how to keep a finger on the pulse of your customers which will lead to greater profits.\n\nOur presenter for this workshop is Bob Kaden\, the author of Guerilla Marketing Research.  The workshop will be held on September 27th  at 9am at the Valparaiso Chamber of Commerce at 162 Lincolnway in Valparaiso.  There is no charge for this workshop and attendees will receive a copy of the slide presentation.  Coffee will be served.\n\nLimited seating is available and registrations are required.    To register online\, go to northwestindiana.score.org.     Register today\, space is limited for this free workshop
X-ALT-DESC;FMTTYPE=text/html:<span style="font-family:arial\,sans-serif\;"><span style="font-size:14.0pt\;">This workshop will explore the importance of knowing the needs and wants of current and potential customers\, and why such knowledge is critical to the growth of any business.&nbsp\; We will explore the various approaches small businesses can use to tap into factors that generate customer loyalty.&nbsp\; Using real world examples\, you will learn how to keep a finger on the pulse of your customers which will lead to greater profits.</span></span><br />\n<span style="font-family:arial\,sans-serif\;"><span style="font-size:14.0pt\;">Our presenter for this workshop is Bob Kaden\, the author of Guerilla Marketing Research. &nbsp\;The workshop will be held on September 27<sup>th</sup>&nbsp\; at 9am at the Valparaiso Chamber of Commerce at 162 Lincolnway in Valparaiso.&nbsp\; There is no charge for this workshop and attendees will receive a copy of the slide presentation. &nbsp\;Coffee will be served.</span></span><br />\n<span style="font-family:arial\,sans-serif\;"><span style="font-size:14.0pt\;">Limited seating is available and registrations are required.&nbsp\;&nbsp\;&nbsp\; To register online\, go to northwestindiana.score.org.&nbsp\;&nbsp\;&nbsp\;&nbsp\; Register today\, space is limited for this free workshop</span></span>
LOCATION:Valparaiso Chamber of Commerce 162 Lincolnway Valparaiso
UID:e.1949.2880
SEQUENCE:3
DTSTAMP:20260425T002158Z
URL:https://members.laportepartnership.com/events/details/know-your-customers-increase-your-profits-2880
END:VEVENT

END:VCALENDAR
