BEGIN:VCALENDAR
VERSION:2.0
PRODID:-//ChamberMaster//Event Calendar 2.0//EN
METHOD:PUBLISH
X-PUBLISHED-TTL:P3D
REFRESH-INTERVAL:P3D
CALSCALE:GREGORIAN
BEGIN:VEVENT
DTSTART:20180818T130000Z
DTEND:20180818T180000Z
X-MICROSOFT-CDO-ALLDAYEVENT:FALSE
SUMMARY:La Porte Chamber Craft Fair- August 2018
DESCRIPTION:Join us for the the La Porte Chamber Craft Fair\, taking place on July 21 and August 18! These craft fairs will take place at the same time as the La Porte Farmers Market from 8:00 a.m.-1:00 p.m. in the Herald Argus parking lot\, located at the corner of State Street and Monroe Street.
X-ALT-DESC;FMTTYPE=text/html:<span style="color: rgb(0\, 0\, 0)\; font-family: Arial\, Helvetica\, sans-serif\; font-size: 16px\;">Join us for the the La Porte Chamber Craft Fair\, taking place on July 21&nbsp\;and August 18! These craft fairs will take place at the same time as the La Porte Farmers Market from 8:00 a.m.-1:00 p.m. in the Herald Argus parking lot\, located at the corner of State Street and Monroe Street.</span>
LOCATION:
UID:e.1949.3065
SEQUENCE:3
DTSTAMP:20260424T054922Z
URL:https://members.laportepartnership.com/events/details/la-porte-chamber-craft-fair-august-2018-3065
END:VEVENT

END:VCALENDAR
