BEGIN:VCALENDAR
VERSION:2.0
PRODID:-//ChamberMaster//Event Calendar 2.0//EN
METHOD:PUBLISH
X-PUBLISHED-TTL:P3D
REFRESH-INTERVAL:P3D
CALSCALE:GREGORIAN
BEGIN:VEVENT
DTSTART:20170819T130000Z
DTEND:20170819T180000Z
X-MICROSOFT-CDO-ALLDAYEVENT:FALSE
SUMMARY:La Porte Chamber Craft Fair- August
DESCRIPTION:Join us for the the La Porte Chamber Craft Fair\, taking place on July 22 and August 19! These craft fairs will take place at the same time as the La Porte Farmers Market from 8:00 a.m.-1:00 p.m. in the Herald Argus parking lot\, located at the corner of State Street and Monroe Street.
X-ALT-DESC;FMTTYPE=text/html:Join us for the the La Porte Chamber Craft Fair\, taking place on July 22 and August 19! These craft fairs will take place at the same time as the La Porte Farmers Market from 8:00 a.m.-1:00 p.m. in the Herald Argus parking lot\, located at the corner of State Street and Monroe Street.
LOCATION:The Herald Argus Parking Lot Corner of Monroe Street and State Street
UID:e.1949.2783
SEQUENCE:3
DTSTAMP:20260425T021650Z
URL:https://members.laportepartnership.com/events/details/la-porte-chamber-craft-fair-august-2783
END:VEVENT

END:VCALENDAR
