BEGIN:VCALENDAR
VERSION:2.0
PRODID:-//ChamberMaster//Event Calendar 2.0//EN
METHOD:PUBLISH
X-PUBLISHED-TTL:P3D
REFRESH-INTERVAL:P3D
CALSCALE:GREGORIAN
BEGIN:VEVENT
DTSTART:20180721T130000Z
DTEND:20180721T180000Z
X-MICROSOFT-CDO-ALLDAYEVENT:FALSE
SUMMARY:La Porte Chamber Craft Fair- July 2018
DESCRIPTION:Join us for the the La Porte Chamber Craft Fair\, taking place on July 21 and August 18! These craft fairs will take place at the same time as the La Porte Farmers Market from 8:00 a.m.-1:00 p.m. in the Herald Argus parking lot\, located at the corner of State Street and Monroe Street.
X-ALT-DESC;FMTTYPE=text/html:<div class="mn-module-content" id="mn-events" style="border: none\; font-variant: inherit\; font-stretch: inherit\; line-height: inherit\; font-family: inherit\; font-size: inherit\; font-style: inherit\; font-weight: inherit\; margin: 0px 0px 30px\; outline: 0px\; padding: 0px\; vertical-align: baseline\; bottom: auto\; box-sizing: content-box\; clear: none\; color: inherit\; content: normal\; direction: inherit\; empty-cells: show\; left: auto\; letter-spacing: inherit\; max-height: none\; max-width: none\; min-height: initial\; min-width: initial\; opacity: 1\; outline-offset: 0px\; overflow: visible\; position: static\; resize: none\; right: auto\; table-layout: auto\; text-align: inherit\; text-indent: inherit\; text-overflow: clip\; text-transform: inherit\; top: auto\; visibility: inherit\; white-space: inherit\; word-break: inherit\; word-spacing: inherit\; word-wrap: inherit\; z-index: auto\; background: none\; border-collapse: separate\; border-radius: 0px\; height: auto\; width: 1000px\; box-shadow: none\;">\n<div id="mn-events-details" itemscope="itemscope" itemtype="http://schema.org/Event" style="border: none\; font-variant: inherit\; font-stretch: inherit\; line-height: inherit\; font-family: inherit\; font-size: inherit\; font-style: inherit\; font-weight: inherit\; margin: 0px\; outline: 0px\; padding: 0px\; vertical-align: baseline\; bottom: auto\; box-sizing: content-box\; clear: none\; color: inherit\; content: normal\; direction: inherit\; empty-cells: show\; left: auto\; letter-spacing: inherit\; max-height: none\; max-width: none\; min-height: initial\; min-width: initial\; opacity: 1\; outline-offset: 0px\; overflow: visible\; position: static\; resize: none\; right: auto\; table-layout: auto\; text-align: inherit\; text-indent: inherit\; text-overflow: clip\; text-transform: inherit\; top: auto\; visibility: inherit\; white-space: inherit\; word-break: inherit\; word-spacing: inherit\; word-wrap: inherit\; z-index: auto\; background: none\; border-collapse: separate\; border-radius: 0px\; height: auto\; width: auto\; box-shadow: none\;">\n<div class="mn-section mn-event-detail-listing" style="border: none\; font-variant: inherit\; font-stretch: inherit\; line-height: inherit\; font-family: inherit\; font-size: inherit\; font-style: inherit\; font-weight: inherit\; margin: 0px\; outline: 0px\; padding: 0px\; vertical-align: baseline\; bottom: auto\; box-sizing: content-box\; clear: both\; color: inherit\; content: normal\; direction: inherit\; empty-cells: show\; left: auto\; letter-spacing: inherit\; max-height: none\; max-width: none\; min-height: initial\; min-width: initial\; opacity: 1\; outline-offset: 0px\; overflow: visible\; position: relative\; resize: none\; right: auto\; table-layout: auto\; text-align: inherit\; text-indent: inherit\; text-overflow: clip\; text-transform: inherit\; top: auto\; visibility: inherit\; white-space: inherit\; word-break: inherit\; word-spacing: inherit\; word-wrap: inherit\; z-index: auto\; background: none\; border-collapse: separate\; border-radius: 0px\; height: auto\; width: auto\; box-shadow: none\;">\n<div class="mn-event-info mn-listing-infobasic" style="border: none\; font-variant: inherit\; font-stretch: inherit\; line-height: inherit\; font-family: inherit\; font-size: inherit\; font-style: inherit\; font-weight: inherit\; margin: 0px\; outline: 0px\; padding: 0px\; vertical-align: baseline\; bottom: auto\; box-sizing: content-box\; clear: left\; color: inherit\; content: normal\; direction: inherit\; empty-cells: show\; left: auto\; letter-spacing: inherit\; max-height: none\; max-width: none\; min-height: initial\; min-width: 280px\; opacity: 1\; outline-offset: 0px\; overflow: visible\; position: static\; resize: none\; right: auto\; table-layout: auto\; text-align: inherit\; text-indent: inherit\; text-overflow: clip\; text-transform: inherit\; top: auto\; visibility: inherit\; white-space: inherit\; word-break: inherit\; word-spacing: inherit\; word-wrap: inherit\; z-index: auto\; background: none\; border-collapse: separate\; border-radius: 0px\; height: auto\; width: 600px\; box-shadow: none\;">\n<div class="mn-event-section mn-event-desc" style="border: none\; font-variant: inherit\; font-stretch: inherit\; line-height: inherit\; font-family: inherit\; font-size: inherit\; font-style: inherit\; font-weight: inherit\; margin: 16px 0px\; outline: 0px\; padding: 0px\; vertical-align: baseline\; bottom: auto\; box-sizing: content-box\; clear: both\; color: inherit\; content: normal\; direction: inherit\; empty-cells: show\; left: auto\; letter-spacing: inherit\; max-height: none\; max-width: none\; min-height: initial\; min-width: initial\; opacity: 1\; outline-offset: 0px\; overflow: visible\; position: static\; resize: none\; right: auto\; table-layout: auto\; text-align: inherit\; text-indent: inherit\; text-overflow: clip\; text-transform: inherit\; top: auto\; visibility: inherit\; white-space: inherit\; word-break: inherit\; word-spacing: inherit\; word-wrap: inherit\; z-index: auto\; background: none\; border-collapse: separate\; border-radius: 0px\; height: auto\; width: auto\; box-shadow: none\;">\n<div class="mn-event-content" style="border: none\; font-variant: inherit\; font-stretch: inherit\; line-height: inherit\; font-family: inherit\; font-size: inherit\; font-style: inherit\; font-weight: inherit\; margin: 0px\; outline: 0px\; padding: 0px\; vertical-align: baseline\; bottom: auto\; box-sizing: content-box\; clear: none\; color: inherit\; content: normal\; direction: inherit\; empty-cells: show\; left: auto\; letter-spacing: inherit\; max-height: none\; max-width: none\; min-height: initial\; min-width: initial\; opacity: 1\; outline-offset: 0px\; overflow: visible\; position: static\; resize: none\; right: auto\; table-layout: auto\; text-align: inherit\; text-indent: inherit\; text-overflow: clip\; text-transform: inherit\; top: auto\; visibility: inherit\; white-space: inherit\; word-break: inherit\; word-spacing: inherit\; word-wrap: inherit\; z-index: auto\; background: none\; border-collapse: separate\; border-radius: 0px\; height: auto\; width: auto\; box-shadow: none\;">\n<div class="mn-raw mn-print-url" itemprop="description" style="border: none\; font-variant: inherit\; font-stretch: inherit\; line-height: 1.3\; font-family: inherit\; font-size: inherit\; font-style: inherit\; font-weight: inherit\; margin: 0px\; outline: 0px\; padding: 0px\; vertical-align: baseline\; bottom: auto\; box-sizing: content-box\; clear: none\; color: inherit\; content: normal\; direction: inherit\; empty-cells: show\; left: auto\; letter-spacing: inherit\; max-height: none\; max-width: none\; min-height: initial\; min-width: initial\; opacity: 1\; outline-offset: 0px\; overflow: visible\; position: static\; resize: none\; right: auto\; table-layout: auto\; text-align: inherit\; text-indent: inherit\; text-overflow: clip\; text-transform: inherit\; top: auto\; visibility: inherit\; white-space: inherit\; word-break: inherit\; word-spacing: inherit\; word-wrap: inherit\; z-index: auto\; background: none\; border-collapse: separate\; border-radius: 0px\; height: auto\; width: auto\; box-shadow: none\;"><span style="border: none\; font-variant-numeric: inherit\; font-variant-east-asian: inherit\; font-stretch: inherit\; line-height: inherit\; font-family: Arial\, Helvetica\, sans-serif\; font-size: 16px\; font-weight: inherit\; margin: 0px\; outline: 0px\; padding: 0px\; vertical-align: baseline\; bottom: auto\; box-sizing: content-box\; clear: none\; color: rgb(0\, 0\, 0)\; content: normal\; direction: inherit\; empty-cells: show\; left: auto\; max-height: none\; max-width: none\; min-height: initial\; min-width: initial\; opacity: 1\; outline-offset: 0px\; overflow: visible\; position: static\; resize: none\; right: auto\; table-layout: auto\; text-overflow: clip\; top: auto\; visibility: inherit\; word-break: inherit\; word-wrap: inherit\; z-index: auto\; background-image: none\; background-position: initial\; background-size: initial\; background-repeat: initial\; background-attachment: initial\; background-origin: initial\; background-clip: initial\; border-collapse: separate\; border-radius: 0px\; height: auto\; width: auto\; box-shadow: none\;">Join us for the the La Porte Chamber Craft Fair\, taking place on July 21&nbsp\;and August 18! These craft fairs will take place at the same time as the La Porte Farmers Market from 8:00 a.m.-1:00 p.m. in the Herald Argus parking lot\, located at the corner of State Street and Monroe Street.</span></div>\n</div>\n</div>\n</div>\n</div>\n</div>\n</div>\n
LOCATION:Herald Argus Parking Lot Corner of State Street and Monroe in Downtown La Porte
UID:e.1949.3064
SEQUENCE:3
DTSTAMP:20260424T071745Z
URL:https://members.laportepartnership.com/events/details/la-porte-chamber-craft-fair-july-2018-3064
END:VEVENT

END:VCALENDAR
