BEGIN:VCALENDAR
VERSION:2.0
PRODID:-//ChamberMaster//Event Calendar 2.0//EN
METHOD:PUBLISH
X-PUBLISHED-TTL:P3D
REFRESH-INTERVAL:P3D
CALSCALE:GREGORIAN
BEGIN:VEVENT
DTSTART:20181017T140000Z
DTEND:20181017T190000Z
X-MICROSOFT-CDO-ALLDAYEVENT:FALSE
SUMMARY:La Porte Chamber Job Hiring Event
DESCRIPTION:Join the La Porte Chamber for a Job Hiring Event on Wednesday\, Oct. 17!\n\nThe event will take place at the La Porte Civic Auditorium\, 1001 Ridge Street\, from 9:00 a.m. - 2:00 p.m.\n\n\n\nThe greater La Porte community will be invited to this event to learn about open positions and careers in our local area. Businesses will be able to provide information about their organizations\, and we also hope they consider hiring qualified candidates at the event itself.\n\n\n\nWe ask that employers bring:\n\n-A list of available positions at your company for display to attendees\, highlighting desired skills\n\n-An HR representative to conduct interviews on the spot (if desired for your company)\n\nWe ask that community attendees and students bring:\n\n-Resumes\n\n-A prepared and open mindset to discuss your skills and career interests\n\n\n\nParticipating businesses include:\n\n1st Source Bank\n\nAccurate Castings\, Inc.\n\nAl's Supermarkets\, East\n\nAmerican Renolit Corporation\n\nArconic\n\nBlue Chip Casino\, Hotel and Spa\n\nCompressAir\n\nCook Compression\n\nDuneland Media\n\nElwood Staffing\n\nEnprotech Industrial Technologies\n\nFas-Pak\n\nFiber Bond Corporation\n\nFour Winds Casino\n\nHealthLinc\n\nHelp at Home\n\nIndiana Department of Correction\n\nIntegrative Flavors\n\nJMJ Talent Staffing & Solutions\n\nKelly Services\, Inc.\n\nLa Porte Community School Corporation\n\nLa Porte County Family YMCA\n\nLa Porte County Government\n\nLa Porte Hospital\n\nOTECH Corporation\n\nPeople Ready \n\nPremier Designs Jewelry\, Jan Jongkind - Independent Representative\n\nShare Foundation\n\nSpeedway\n\nSummers Plumbing Heating & Cooling\n\nTejas Tubular\n\nVisiting Nurse Association of NWI\n\nWe Connect\n\nWestville Correctional Facility \n\nWorkOne
X-ALT-DESC;FMTTYPE=text/html:Join the La Porte Chamber for a Job Hiring Event on Wednesday\, Oct. 17!<br />\nThe event will take place at the La Porte Civic Auditorium\, 1001 Ridge Street\, from 9:00 a.m. - 2:00 p.m.<br />\n<br />\nThe greater La Porte community will be invited to this event to learn about open positions and careers in our local area. Businesses will be able to provide information about their organizations\, and we also hope they consider hiring qualified candidates at the event itself.<br />\n<br />\nWe ask that employers bring:<br />\n-A list of available positions at your company for display to attendees\, highlighting desired skills<br />\n-An HR representative to conduct interviews on the spot (if desired for your company)<br />\nWe ask that community attendees and students bring:<br />\n-Resumes<br />\n-A prepared and open mindset to discuss your skills and career interests<br />\n<br />\nParticipating businesses include:<br />\n<strong>1st Source Bank</strong><br />\n<strong>Accurate Castings\, Inc.</strong><br />\n<strong>Al&#39\;s Supermarkets\, East</strong><br />\n<strong>American Renolit Corporation</strong><br />\n<strong>Arconic<br />\nBlue Chip Casino\, Hotel and Spa</strong><br />\n<strong>CompressAir</strong><br />\n<strong>Cook Compression</strong><br />\n<strong>Duneland Media</strong><br />\n<strong>Elwood Staffing</strong><br />\n<strong>Enprotech Industrial Technologies</strong><br />\n<strong>Fas-Pak</strong><br />\n<strong>Fiber Bond Corporation</strong><br />\n<strong>Four Winds Casino</strong><br />\n<strong>HealthLinc</strong><br />\n<strong>Help at Home</strong><br />\n<strong>Indiana Department of Correction</strong><br />\n<strong>Integrative Flavors</strong><br />\n<strong>JMJ Talent Staffing &amp\; Solutions</strong><br />\n<strong>Kelly Services\, Inc.<br />\nLa Porte Community School Corporation</strong><br />\n<strong>La Porte County Family YMCA</strong><br />\n<strong>La Porte County Government</strong><br />\n<strong>La Porte Hospital</strong><br />\n<strong>OTECH Corporation</strong><br />\n<strong>People Ready </strong><br />\n<strong>Premier Designs Jewelry\, Jan Jongkind - Independent Representative</strong><br />\n<strong>Share Foundation<br />\nSpeedway</strong><br />\n<strong>Summers Plumbing Heating &amp\; Cooling</strong><br />\n<strong>Tejas Tubular</strong><br />\n<strong>Visiting Nurse Association of NWI</strong><br />\n<strong>We Connect<br />\nWestville Correctional Facility </strong><br />\n<strong>WorkOne</strong><br />\n&nbsp\;
LOCATION:La Porte Civic Auditorium 1001 Ridge Street La Porte
UID:e.1949.4231
SEQUENCE:3
DTSTAMP:20260424T023208Z
URL:https://members.laportepartnership.com/events/details/la-porte-chamber-job-hiring-event-4231
END:VEVENT

END:VCALENDAR
