BEGIN:VCALENDAR
VERSION:2.0
PRODID:-//ChamberMaster//Event Calendar 2.0//EN
METHOD:PUBLISH
X-PUBLISHED-TTL:P3D
REFRESH-INTERVAL:P3D
CALSCALE:GREGORIAN
BEGIN:VEVENT
DTSTART:20181109T230000Z
DTEND:20181110T030000Z
X-MICROSOFT-CDO-ALLDAYEVENT:FALSE
SUMMARY:La Porte County Association of REALTORS Deserving Children Charity Auction
DESCRIPTION:Charity Auction to Benefit the Deserving Children Charity - Funds raised will be used for the Deserving Children Shopping Tour in partnership with the La Porte Jaycees and the Unity Foundation. Join us for an evening of dinner and fun for a good cause. We are also accepting auction item donations.
X-ALT-DESC;FMTTYPE=text/html:Charity Auction to Benefit the Deserving Children Charity - Funds raised will be used for the Deserving Children Shopping Tour in partnership with the La Porte Jaycees and the Unity Foundation. Join us for an evening of dinner and fun for a good cause. We are also accepting auction item donations.
LOCATION:Orak Shrine in Michigan City 3848 N. Frontage Road Michigan City\, Indiana 46360
UID:e.1949.4264
SEQUENCE:3
DTSTAMP:20260424T005915Z
URL:https://members.laportepartnership.com/events/details/la-porte-county-association-of-realtors-deserving-children-charity-auction-4264
END:VEVENT

END:VCALENDAR
