BEGIN:VCALENDAR
VERSION:2.0
PRODID:-//ChamberMaster//Event Calendar 2.0//EN
METHOD:PUBLISH
X-PUBLISHED-TTL:P3D
REFRESH-INTERVAL:P3D
CALSCALE:GREGORIAN
BEGIN:VEVENT
DTSTART:20160616T210000Z
DTEND:20160617T010000Z
X-MICROSOFT-CDO-ALLDAYEVENT:FALSE
SUMMARY:La Porte County Family YMCA Panera Give Back Night
DESCRIPTION:Please join us for dinner on Thursday\, June 16th from 4:00 p.m. to 8:00 p.m. at Panera Bread  in Michigan City. Panera Bread  has generously agreed to donate a percentage of cash\, credit and debit card sales to the La Porte County Family YMCA if 20 or more flyers are redeemed during this time period. Gift card\, retail and catering purchases are excluded.\n\n\n\nAt the Y\, we operate with the philosophy of charging fees to those who have the ability to pay\, and helping those who don't. All funds raised from this event will go toward our scholarship fund to help ensure that everyone in the community can afford to take advantage of important Y programs like youth and adult sports\, swim lessons\, childcare and preschool.\n\n\n\nTo participate\, simply bring a printed or electronic version of the attached promotional flyer to Panera Bread  at 5673 Franklin Street in Michigan City. You can also print your flyer at www.lpymca.org or contact Michelle Shirk at mshirk@lpymca.org to have a PDF version emailed to you.
X-ALT-DESC;FMTTYPE=text/html:Please join us for dinner on Thursday\, June 16th from 4:00 p.m. to 8:00 p.m. at Panera Bread&reg\; in Michigan City. Panera Bread&reg\; has generously agreed to donate a percentage of cash\, credit and debit card sales to the La Porte County Family YMCA if 20 or more flyers are redeemed during this time period. Gift card\, retail and catering purchases are excluded.<br />\n<br />\nAt the Y\, we operate with the philosophy of charging fees to those who have the ability to pay\, and helping those who don&rsquo\;t. All funds raised from this event will go toward our scholarship fund to help ensure that everyone in the community can afford to take advantage of important Y programs like youth and adult sports\, swim lessons\, childcare and preschool.<br />\n<br />\nTo participate\, simply bring a printed or electronic version of the attached promotional flyer to Panera Bread&reg\; at 5673 Franklin Street in Michigan City. You can also print your flyer at www.lpymca.org or contact Michelle Shirk at mshirk@lpymca.org to have a PDF version emailed to you.
LOCATION:Panera Bread 5673 Franklin Street Michigan City
UID:e.1949.2567
SEQUENCE:3
DTSTAMP:20260426T034308Z
URL:https://members.laportepartnership.com/events/details/la-porte-county-family-ymca-panera-give-back-night-06-16-2016-2567
END:VEVENT

END:VCALENDAR
