BEGIN:VCALENDAR
VERSION:2.0
PRODID:-//ChamberMaster//Event Calendar 2.0//EN
METHOD:PUBLISH
X-PUBLISHED-TTL:P3D
REFRESH-INTERVAL:P3D
CALSCALE:GREGORIAN
BEGIN:VEVENT
DTSTART:20161024T210000Z
DTEND:20161024T230000Z
X-MICROSOFT-CDO-ALLDAYEVENT:FALSE
SUMMARY:La Porte County Family YMCA Ribbon Cutting- Celebrating New Equipment
DESCRIPTION:La Porte County Family YMCA will host a Ribbon Cutting & Open House on Monday\, October 24 at 4:30 p.m. The organization is celebrating the new exercise equipment that has been placed in its facility in La Porte\, located at 901 Michigan Avenue. The ribbon cutting will be administered by the Greater La Porte Chamber of Commerce.\n\nThe Y has been serving our community for more than 107 years. We focus on three main priorities: youth development\, healthy living and social responsibility. Today\, we provide programming at 11 different sites\, including our La Porte\, Long Beach and Michigan City Elston branches\, our Childcare and Learning Center\, our Andrew Avenue Outdoor Center and 6 area schools. We are proud to be one of nearly 2\,700 Ys across Americe\, joined together to make a greater impact.\n\n\n\nFor more information about the La Porte County Family YMCA\, visit www.lpymca.org. For more information about the Greater La Porte Chamber of Commerce\, visit www.lpchamber.com.
X-ALT-DESC;FMTTYPE=text/html:<p>La Porte County Family YMCA will host a Ribbon Cutting &amp\; Open House on Monday\, October 24 at 4:30 p.m. The organization is celebrating the new exercise equipment that has been placed in its facility in La Porte\, located at 901 Michigan Avenue. The ribbon cutting will be administered by the Greater La Porte Chamber of Commerce.<o:p></o:p></p>\n\n<p>The Y has been serving our community for more than 107 years. We focus on three main priorities: youth development\, healthy living and social responsibility. Today\, we provide programming at 11 different sites\, including our La Porte\, Long Beach and Michigan City Elston branches\, our Childcare and Learning Center\, our Andrew Avenue Outdoor Center and 6 area schools. We are proud to be one of nearly 2\,700 Ys across Americe\, joined together to make a greater impact.<o:p></o:p></p>\n\n<p><o:p></o:p></p>\n\n<p>For more information about the La Porte County Family YMCA\, visit <a href="http://www.lpymca.org">www.lpymca.org</a>. For more information about the Greater La Porte Chamber of Commerce\, visit <a href="http://www.lpchamber.com">www.lpchamber.com</a>.<o:p></o:p></p>\n
LOCATION:La Porte County Family YMCA 901 Michigan Avenue La Porte
UID:e.1949.2659
SEQUENCE:3
DTSTAMP:20260425T204540Z
URL:https://members.laportepartnership.com/events/details/la-porte-county-family-ymca-ribbon-cutting-celebrating-new-equipment-2659
END:VEVENT

END:VCALENDAR
