BEGIN:VCALENDAR
VERSION:2.0
PRODID:-//ChamberMaster//Event Calendar 2.0//EN
METHOD:PUBLISH
X-PUBLISHED-TTL:P3D
REFRESH-INTERVAL:P3D
CALSCALE:GREGORIAN
BEGIN:VEVENT
DTSTART:20200318T000000Z
DTEND:20200318T000000Z
X-MICROSOFT-CDO-ALLDAYEVENT:FALSE
SUMMARY:La Porte County Historical Society Meeting and Program
DESCRIPTION:The La Porte County Historical Society will hold its March meeting on Tuesday\, March 17\, 2020 at the La Porte County Historical Society Museum\, 2405 Indiana Avenue\, La Porte. The public is invited. The meeting time is 7:00 p.m. Program to be announced.
X-ALT-DESC;FMTTYPE=text/html:The La Porte County Historical Society will hold its March meeting on Tuesday\, March 17\, 2020 at the La Porte County Historical Society Museum\, 2405 Indiana Avenue\, La Porte. The public is invited. The meeting time is 7:00 p.m. Program to be announced.
LOCATION:La Porte County Historical Society Museum\, 2405 Indiana Avenue\, La Porte\, IN 46350
UID:e.1949.4575
SEQUENCE:3
DTSTAMP:20260424T084804Z
URL:https://members.laportepartnership.com/events/details/la-porte-county-historical-society-meeting-and-program-4575
END:VEVENT

END:VCALENDAR
