BEGIN:VCALENDAR
VERSION:2.0
PRODID:-//ChamberMaster//Event Calendar 2.0//EN
METHOD:PUBLISH
X-PUBLISHED-TTL:P3D
REFRESH-INTERVAL:P3D
CALSCALE:GREGORIAN
BEGIN:VEVENT
DTSTART:20180118T220000Z
DTEND:20180119T000000Z
X-MICROSOFT-CDO-ALLDAYEVENT:FALSE
SUMMARY:La Porte County Historical Society Museum Business after Hours
DESCRIPTION:Join the La Porte County Historical Society Museum\, the Greater La Porte Chamber of Commerce\, and Michigan City Area Chamber of Commerce for a Business after Hours on Thursday\, January 18th from 4:00 p.m.-6:00 p.m. This Business after Hours will take place at the museum\, 2405 Indiana Avenue in La Porte. Join in for networking\, light refreshments\, and tours of this La Porte County asset.\n\nRegular museum hours are Tuesday through Saturday\, 10:00 a.m. to 4:30 p.m. Call ahead for admission prices at 219-324-6767 or visit their website at www.laportecountyhistory.org.\n\nFor more information about the Greater La Porte Chamber of Commerce\, visit www.lpchamber.com. For more information about the Michigan City Area Chamber of Commerce\, visit www.mcachamber.com.
X-ALT-DESC;FMTTYPE=text/html:<span style="font-family:georgia\,serif\;"><span style="font-size:12.0pt\;">Join the La Porte County Historical Society Museum\, the Greater La Porte Chamber of Commerce\, and Michigan City Area Chamber of Commerce for a Business after Hours on Thursday\, January 18th from 4:00 p.m.-6:00 p.m. This Business after Hours will take place at the museum\, 2405 Indiana Avenue in La Porte. Join in for networking\, light refreshments\, and tours of this La Porte County asset.</span></span><br />\n<span style="font-family:georgia\,serif\;"><span style="font-size:12.0pt\;">Regular museum hours are Tuesday through Saturday\, 10:00 a.m. to 4:30 p.m. Call ahead for admission prices at 219-324-6767 or visit their website at www.laportecountyhistory.org.</span></span><br />\n<span style="font-family:georgia\,serif\;"><span style="font-size:12.0pt\;">For more information about the Greater La Porte Chamber of Commerce\, visit www.lpchamber.com. For more information about the Michigan City Area Chamber of Commerce\, visit www.mcachamber.com.&nbsp\;</span></span>
LOCATION:La Porte County Historical Society Museum 2405 Indiana Avenue La Porte
UID:e.1949.2998
SEQUENCE:3
DTSTAMP:20260424T174801Z
URL:https://members.laportepartnership.com/events/details/la-porte-county-historical-society-museum-business-after-hours-2998
END:VEVENT

END:VCALENDAR
