BEGIN:VCALENDAR
VERSION:2.0
PRODID:-//ChamberMaster//Event Calendar 2.0//EN
METHOD:PUBLISH
X-PUBLISHED-TTL:P3D
REFRESH-INTERVAL:P3D
CALSCALE:GREGORIAN
BEGIN:VEVENT
DTSTART:20170417T210000Z
DTEND:20170417T220000Z
X-MICROSOFT-CDO-ALLDAYEVENT:FALSE
SUMMARY:La Porte County Public Library Main Branch "Untying the Ribbon" Reopening
DESCRIPTION:The La Porte County Public Library invites the community to the Grand [RE] Opening Celebrations that will take place at all of the newly built or remodeled locations.  Come enjoy light refreshments\, get a tour of the building\, and hear about future classes and events that we will be having in the new spaces.    \n\n	Monday\, April 17  -  Main Library  2:00pm to 7:00pm  \n\n(Celebratory Comments and Ribbon Untying at 4:00pm)\n\n\n	Wednesday\, April 19  -  Hanna  3:00pm to 6:00pm\n	Saturday\, April 22  -  Fish Lake  10:00am to 1:00pm\n\nPlease watch laportelibrary.org and follow our social media accounts for up-to-date information.
X-ALT-DESC;FMTTYPE=text/html:<span style="font-family:century gothic\,sans-serif\;"><span style="font-size:12.0pt\;">The La Porte County Public Library invites the community to the Grand [RE] Opening Celebrations that will take place at all of the newly built or remodeled locations.&nbsp\; Come enjoy light refreshments\, get a tour of the building\, and hear about future classes and events that we will be having in the new spaces.&nbsp\; &nbsp\;&nbsp\;</span></span>\n<ul>\n	<li style="margin-bottom:12pt\;background-image:initial\;background-position:initial\;background-size:initial\;background-repeat:initial\;background-attachment:initial\;background-origin:initial\;background-clip:initial\;"><strong><span style="color:#222222\;"><span style="font-family:century gothic\,sans-serif\;"><span style="font-size:12.0pt\;">Monday\, April 17&nbsp\; </span></span></span></strong><span style="color:#222222\;"><span style="font-family:century gothic\,sans-serif\;"><span style="font-size:12.0pt\;">-&nbsp\; Main Library&nbsp\; 2:00pm to 7:00pm&nbsp\; </span></span></span></li>\n</ul>\n<strong><span style="color:#222222\;"><span style="font-family:century gothic\,sans-serif\;"><span style="font-size:12.0pt\;">(Celebratory Comments and Ribbon Untying at 4:00pm)</span></span></span></strong>\n\n<ul>\n	<li style="margin-bottom:12pt\;background-image:initial\;background-position:initial\;background-size:initial\;background-repeat:initial\;background-attachment:initial\;background-origin:initial\;background-clip:initial\;"><strong><span style="color:#222222\;"><span style="font-family:century gothic\,sans-serif\;"><span style="font-size:12.0pt\;">Wednesday\, April 19&nbsp\; </span></span></span></strong><span style="color:#222222\;"><span style="font-family:century gothic\,sans-serif\;"><span style="font-size:12.0pt\;">-&nbsp\; Hanna&nbsp\; 3:00pm to 6:00pm</span></span></span></li>\n	<li style="margin-bottom:12pt\;background-image:initial\;background-position:initial\;background-size:initial\;background-repeat:initial\;background-attachment:initial\;background-origin:initial\;background-clip:initial\;"><strong><span style="color:#222222\;"><span style="font-family:century gothic\,sans-serif\;"><span style="font-size:12.0pt\;">Saturday\, April 22&nbsp\; </span></span></span></strong><span style="color:#222222\;"><span style="font-family:century gothic\,sans-serif\;"><span style="font-size:12.0pt\;">-&nbsp\; Fish Lake&nbsp\; 10:00am to 1:00pm</span></span></span></li>\n</ul>\n<span style="color:#222222\;"><span style="font-family:century gothic\,sans-serif\;"><span style="font-size:12.0pt\;">Please watch <strong>laportelibrary.org</strong> and follow our social media accounts for up-to-date information.</span></span></span>
LOCATION:La Porte County Public Library Main Branch 904 Indiana Avenue La Porte
UID:e.1949.2764
SEQUENCE:3
DTSTAMP:20260425T115030Z
URL:https://members.laportepartnership.com/events/details/la-porte-county-public-library-main-branch-untying-the-ribbon-reopening-2764
END:VEVENT

END:VCALENDAR
