BEGIN:VCALENDAR
VERSION:2.0
PRODID:-//ChamberMaster//Event Calendar 2.0//EN
METHOD:PUBLISH
X-PUBLISHED-TTL:P3D
REFRESH-INTERVAL:P3D
CALSCALE:GREGORIAN
BEGIN:VEVENT
DTSTART:20170305T210000Z
DTEND:20170305T230000Z
X-MICROSOFT-CDO-ALLDAYEVENT:FALSE
SUMMARY:La Porte County Symphony Orchestra's Classic Concert- Bonjour Paris
DESCRIPTION:The La Porte County Symphony Orchestra presents Bonjour Paris. Under the direction of Maestro Philip Bauman\, an afternoon of Parisian delights await you as the orchestra explores great masters of the French repertoire. From Berlioz' tour de force overture Le Carnaval Romain to Ravel's stunning Rapsodie Espagnol\, this concert will delight your senses and have you saying "Magnifique!" Other selections include music by Claude Debussy\, Leo Delibes\, and Camille Saint-Saens. This concert features Harpist Meg Rodgers\, with solo performances by LCSO musicians Tamara Stojanovic and Elaine Hornyak.\n\n   \n\nPurchase your tickets now for Bonjour Paris\, March 5\, 2017 at 3:00pm\, Elston Performing Art Center\, Michigan City\, IN. For more information call 219-362-9020 or visit us on the web\, www.lcso.net  \n\n \n\nTickets may be purchase online by visiting www.lcso.net or at the following locations:\n\n	ROXY Music - 1012 Lincolnway\, La Porte\n	La Porte County Convention & Visitors Bureau - Marquette Mall\, Franklin St.\, Michigan City.\n\n Tickets are $20 for Adult Seats and $18 for Senior Seats. Students with a valid ID are admitted for free.
X-ALT-DESC;FMTTYPE=text/html:<span style="color:black\;"><span style="font-family:arial\,sans-serif\;"><span style="font-size:10.0pt\;">The <strong>La Porte County Symphony Orchestra</strong>&nbsp\;presents<em>&nbsp\;Bonjour Paris.&nbsp\;</em>Under the direction of Maestro Philip Bauman\, an afternoon of Parisian delights await you as the orchestra explores great masters of the French repertoire. From Berlioz&#39\; tour de force overture <em>Le Carnaval Romain</em> to Ravel&#39\;s stunning <em>Rapsodie Espagnol</em>\, this concert will delight your senses and have you saying &quot\;Magnifique!&quot\; Other selections include music by Claude Debussy\, Leo Delibes\, and Camille Saint-Saens. This concert features Harpist Meg Rodgers\, with solo performances by LCSO musicians Tamara Stojanovic and Elaine Hornyak.</span></span></span><br />\n&nbsp\;&nbsp\;&nbsp\;<br />\n<span style="color:black\;"><span style="font-family:arial\,sans-serif\;"><span style="font-size:10.0pt\;">Purchase your tickets now for <strong><em><span face="Arial\, sans-serif">Bonjour Paris\,</span></em></strong>&nbsp\;March 5\, 2017 at 3:00pm\, Elston Performing Art Center\, Michigan City\, IN. For more information call 219-362-9020 or visit us on the web\, </span></span></span><a alt="http://www.lcso.net" href="http://r20.rs6.net/tn.jsp?f=001zeBwwJwWZCJypYFntV9fcLOQ1IqC1Q6eP1Lxmg8igbccRS0yk3rywLK1-igJHyB8bv3pBw-bQ2dwhw7I9khCX9O2qaUZ0tmNb6_pmnZ7MLMqlgyYYzVNu7Jp2rAvZntNPzQssD1F6f1n_L59TreBpY7rYokVt19Y&amp\;c=QpnM06RhH4QEHt6SC4XoIF8V8bsfmJVsP3OOSzpNSgqzA5fj1Dit4A==&amp\;ch=sAtDpX8keMRBE460VYunR9Dko727quLCSDdcnkA-RBEabe6zVcXNag==" linktype="1" shape="rect" target="_blank" track="on">www.lcso.net</a> &nbsp\;<br />\n&nbsp\;<br />\n<strong><span style="color:black\;"><span style="font-family:arial\,sans-serif\;"><span style="font-size:10.0pt\;">Tickets may be purchase online by visiting <a alt="http://www.lcso.net" href="http://r20.rs6.net/tn.jsp?f=001zeBwwJwWZCJypYFntV9fcLOQ1IqC1Q6eP1Lxmg8igbccRS0yk3rywLK1-igJHyB8bv3pBw-bQ2dwhw7I9khCX9O2qaUZ0tmNb6_pmnZ7MLMqlgyYYzVNu7Jp2rAvZntNPzQssD1F6f1n_L59TreBpY7rYokVt19Y&amp\;c=QpnM06RhH4QEHt6SC4XoIF8V8bsfmJVsP3OOSzpNSgqzA5fj1Dit4A==&amp\;ch=sAtDpX8keMRBE460VYunR9Dko727quLCSDdcnkA-RBEabe6zVcXNag==" linktype="1" shape="rect" target="_blank" track="on">www.lcso.net</a> or at the following locations:</span></span></span></strong>\n<ul>\n	<li style="color:#666666\;"><span style="color:black\;"><span style="font-family:arial\,sans-serif\;"><span style="font-size:10.0pt\;">ROXY Music - 1012 Lincolnway\, La Porte</span></span></span></li>\n	<li style="color:#666666\;"><span style="color:black\;"><span style="font-family:arial\,sans-serif\;"><span style="font-size:10.0pt\;">La Porte County Convention &amp\; Visitors Bureau - Marquette Mall\, Franklin St.\, Michigan City.</span></span></span></li>\n</ul>\n<strong><span style="color:black\;"><span style="font-family:arial\,sans-serif\;"><span style="font-size:10.0pt\;">&nbsp\;Tickets are $20 for Adult Seats and $18 for Senior Seats. Students with a valid ID are admitted for free.&nbsp\;</span></span></span></strong>
LOCATION:Elston Performing Arts Center 317 Detroit Street Michigan City
UID:e.1949.2719
SEQUENCE:3
DTSTAMP:20260425T115030Z
URL:https://members.laportepartnership.com/events/details/la-porte-county-symphony-orchestra-s-classic-concert-bonjour-paris-2719
END:VEVENT

END:VCALENDAR
