BEGIN:VCALENDAR
VERSION:2.0
PRODID:-//ChamberMaster//Event Calendar 2.0//EN
METHOD:PUBLISH
X-PUBLISHED-TTL:P3D
REFRESH-INTERVAL:P3D
CALSCALE:GREGORIAN
BEGIN:VEVENT
DTSTART:20160619T180000Z
DTEND:20160619T210000Z
X-MICROSOFT-CDO-ALLDAYEVENT:FALSE
SUMMARY:La Porte Day at Four Winds Field 2016
DESCRIPTION:The Greater La Porte Chamber of Commerce is sponsoring La Porte Day at Four Winds Field in South Bend\, Indiana\, on Father's Day\, Sunday\, June 19. State Representative Tom Dermody and State Senator Jim Arnold will be throwing the first pitch of the game in honor of La Porte Day. The game starts at 2:05 p.m. EST (1:05 p.m. CST). The South Bend Cubs will play the Lake County Captains. \n\nFor just $11.00 per person you will receive a ticket to the game and a ticket for a South Bend Cubs hat. The first 1000 fans will also receive a free South Bend Cubs pint glass and La Porte Chamber member businesses that purchase 10 or more tickets will be recognized in the game program. Tickets need to be purchased in advance. Deadline to purchase is June 10.\n\nFor more information or to reserve seats to attend this special game please contact the Greater La Porte Chamber of Commerce office by calling 219.362.3178 or emailing gesse@lpchamber.com. You may also visit the Chamber at 803 Washington Street in La Porte to purchase tickets.
X-ALT-DESC;FMTTYPE=text/html:<span style="font-family:times new roman\,serif\;"><span style="font-size:12.0pt\;">The Greater La Porte Chamber of Commerce is sponsoring La Porte Day at Four Winds Field in South Bend\, Indiana\, on Father&rsquo\;s Day\, Sunday\, June 19. State Representative Tom Dermody and State Senator Jim Arnold will be throwing the first pitch of the game in honor of La Porte Day. The game starts at <strong>2:05 p.m. EST </strong>(1:05 p.m. CST). The South Bend Cubs will play the Lake County Captains. </span></span><br />\n<span style="font-family:times new roman\,serif\;"><span style="font-size:12.0pt\;">For just $11.00 per person you will receive a ticket to the game and a ticket for a South Bend Cubs hat. The first 1000 fans will also receive a free South Bend Cubs pint glass and La Porte Chamber member businesses that purchase 10 or more tickets will be recognized in the game program. Tickets need to be purchased in advance. Deadline to purchase is June 10.</span></span><br />\n<span style="font-family:times new roman\,serif\;"><span style="font-size:12.0pt\;">For more information or to reserve seats to attend this special game please contact the Greater La Porte Chamber of Commerce office by calling 219.362.3178 or emailing gesse@lpchamber.com. You may also visit the Chamber at 803 Washington Street in La Porte to purchase tickets.</span></span>
LOCATION:Four Winds Field 501 W. South St. South Bend\, IN
UID:e.1949.2535
SEQUENCE:3
DTSTAMP:20260426T034610Z
URL:https://members.laportepartnership.com/events/details/la-porte-day-at-four-winds-field-2016-06-19-2016-2535
END:VEVENT

END:VCALENDAR
