BEGIN:VCALENDAR
VERSION:2.0
PRODID:-//ChamberMaster//Event Calendar 2.0//EN
METHOD:PUBLISH
X-PUBLISHED-TTL:P3D
REFRESH-INTERVAL:P3D
CALSCALE:GREGORIAN
BEGIN:VEVENT
DTSTART:20160628T000000Z
DTEND:20160628T030000Z
X-MICROSOFT-CDO-ALLDAYEVENT:FALSE
SUMMARY:La Porte Entrepreneur and Freelancer Network Meetup
DESCRIPTION:It's hard for entrepreneurs and freelancers to network\, so join some other professionals at Open Door Coworking to meet\, network\, and enjoy each other's company.\n\n\n\nBe sure to bring business cards to exchange!\n\n\n\nCost is $7.50 to attend to cover food and beverage.\n\n\n\nRSVP on Meetup.com
X-ALT-DESC;FMTTYPE=text/html:It&#39\;s hard for entrepreneurs and freelancers to network\, so join some other professionals at Open Door Coworking to meet\, network\, and enjoy each other&#39\;s company.<br />\n<br />\nBe sure to bring business cards to exchange!<br />\n<br />\nCost is $7.50 to attend to cover food and beverage.<br />\n<br />\nRSVP on <a href="http://www.meetup.com/La-Porte-County-Entrepreneur-and-Freelancer-Network/events/230124193/">Meetup.com</a>
LOCATION:Open Door Coworking\, 1705 State St\, Bldg A
UID:e.1949.2579
SEQUENCE:3
DTSTAMP:20260426T034719Z
URL:https://members.laportepartnership.com/events/details/la-porte-entrepreneur-and-freelancer-network-meetup-06-27-2016-2579
END:VEVENT

END:VCALENDAR
