BEGIN:VCALENDAR
VERSION:2.0
PRODID:-//ChamberMaster//Event Calendar 2.0//EN
METHOD:PUBLISH
X-PUBLISHED-TTL:P3D
REFRESH-INTERVAL:P3D
CALSCALE:GREGORIAN
BEGIN:VEVENT
DTSTART:20160902T160000Z
DTEND:20160902T220000Z
X-MICROSOFT-CDO-ALLDAYEVENT:FALSE
SUMMARY:La Porte Fire Department L363 1st Annual Charity Golf Outing
DESCRIPTION:La Porte Fire Department L363\n\n1st Annual Charity Golf Outing\n\nWhen: Friday\, September 2nd\, 2016\n\nEntry Deadline: Friday\, August 19th\, 2016\n\nTime: Shotgun Start @ 12 pm C/ST. Registration/Lunch @ 11 am\n\nWhere: Beechwood Golf Course 2222 Woodlawn Dr. LaPorte\, IN 46350\n\nCost: $70/Golfer $280/Team\n\nFormat: 4-Man Best Ball\n\nPrizes for Clostest to Pin\, Longest Drive\, Longest Putt\, and Raffles\n\nAdditional Food and Beverages will be available\n\n\n\nWe are hosting this event to support Meyer's Mile being built at Hailmann Elementary School. Proceeds raised at the event will go to help with the building of the Trail\, Outside Classroom\, Benches\, and Outdoor Decorations.\n\n\n\nTo register or any questions\, contact:\n\nZach Kanney\, (219)363-7320 zach.kanney@laportefire.com\n\nKelly Burke\, (219)851-3710 kellyburke152@gmail.com\n\nNick Reyes\, (219)379-7990 nick.reyes@laportefire.com\n\n\n\nSponsor Information\n\n$100-Hole Sponsor\n\n$200- Beverage Cart Sponsor\n\n$350- 4-Person Team & Hole Sponsor\n\n$450- 4-Person Team & Beverage Cart Sponsor
X-ALT-DESC;FMTTYPE=text/html:La Porte Fire Department L363<br />\n1st Annual Charity Golf Outing<br />\nWhen: Friday\, September 2nd\, 2016<br />\nEntry Deadline: Friday\, August 19th\, 2016<br />\nTime: Shotgun Start @ 12 pm C/ST. Registration/Lunch @ 11 am<br />\nWhere: Beechwood Golf Course 2222 Woodlawn Dr. LaPorte\, IN 46350<br />\nCost: $70/Golfer $280/Team<br />\nFormat: 4-Man Best Ball<br />\nPrizes for Clostest to Pin\, Longest Drive\, Longest Putt\, and Raffles<br />\nAdditional Food and Beverages will be available<br />\n<br />\nWe are hosting this event to support Meyer&#39\;s Mile being built at Hailmann&nbsp\;Elementary School. Proceeds raised at the event will go to help with the building of the Trail\, Outside Classroom\, Benches\, and Outdoor Decorations.<br />\n<br />\nTo register or any questions\, contact:<br />\nZach Kanney\, (219)363-7320 zach.kanney@laportefire.com<br />\nKelly Burke\, (219)851-3710 kellyburke152@gmail.com<br />\nNick Reyes\, (219)379-7990 nick.reyes@laportefire.com<br />\n<br />\nSponsor Information<br />\n$100-Hole Sponsor<br />\n$200- Beverage Cart Sponsor<br />\n$350- 4-Person Team &amp\; Hole Sponsor<br />\n$450- 4-Person Team &amp\; Beverage Cart Sponsor
LOCATION:Beechwood Golf Course 2222 Woodlawn Drive La Porte
UID:e.1949.2609
SEQUENCE:3
DTSTAMP:20260425T223721Z
URL:https://members.laportepartnership.com/events/details/la-porte-fire-department-l363-1st-annual-charity-golf-outing-09-02-2016-2609
END:VEVENT

END:VCALENDAR
