BEGIN:VCALENDAR
VERSION:2.0
PRODID:-//ChamberMaster//Event Calendar 2.0//EN
METHOD:PUBLISH
X-PUBLISHED-TTL:P3D
REFRESH-INTERVAL:P3D
CALSCALE:GREGORIAN
BEGIN:VEVENT
DTSTART:20160704T150000Z
DTEND:20160704T170000Z
X-MICROSOFT-CDO-ALLDAYEVENT:FALSE
SUMMARY:La Porte Jaycees 70th Annual 4th of July Parade
DESCRIPTION:Join the La Porte Jaycees and your friends and family as we celebrate Independence Day in the State Capital for the day\, La Porte\, IN. The largest parade in the state of Indiana begins on the East side of La Porte on Lincolnway and continues down a 2.5 mile route to the West Side of La Porte.
X-ALT-DESC;FMTTYPE=text/html:<span style="color: rgb(75\, 79\, 86)\; font-family: helvetica\, arial\, sans-serif\; font-size: 14px\; line-height: 18.76px\;">Join the La Porte Jaycees and your friends and family as we celebrate Independence Day in the State Capital for the day\, La Porte\, IN. The largest parade in the state of Indiana begins on the East side of La Porte on Lincolnway and continues down a 2.5 mile route to the West Side of La Porte.</span>
LOCATION:Downtown La Porte
UID:e.1949.2576
SEQUENCE:3
DTSTAMP:20260426T021952Z
URL:https://members.laportepartnership.com/events/details/la-porte-jaycees-70th-annual-4th-of-july-parade-07-04-2016-2576
END:VEVENT

END:VCALENDAR
